BEGIN:VCALENDAR
VERSION:2.0
PRODID:-//ChamberMaster//Event Calendar 2.0//EN
METHOD:PUBLISH
X-PUBLISHED-TTL:P3D
REFRESH-INTERVAL:P3D
CALSCALE:GREGORIAN
BEGIN:VEVENT
DTSTART;VALUE=DATE:20100918
DTEND;VALUE=DATE:20100919
TRANSP:TRANSPARENT
X-MICROSOFT-CDO-ALLDAYEVENT:TRUE
SUMMARY:''Chamber Challenge 5K''
DESCRIPTION:Reidsville Chamber of Commerce  1st Annual "Chamber Challenge 5K" Sponsored by: Graphic SolutionsandPiedmont Natural Gas Saturday\, September 18\, 2010Downtown ReidsvilleRace kicks off from the parking lot at Market Square Register online at www.precisiontimingsystems.comFor more information call 336-349-8481
X-ALT-DESC;FMTTYPE=text/html:<div style="text-align: center"><span style="font-size: large">Reidsville Chamber of Commerce </span></div><div style="text-align: center"><span style="font-size: large">&nbsp\;1st Annual &quot\;Chamber Challenge 5K&quot\;</span></div><div style="text-align: center">&nbsp\;</div><div style="text-align: center"><span style="font-size: medium">Sponsored by: </span></div><div style="text-align: center"><span style="color: #3366ff"><span style="font-size: x-large">Gr</span><span style="font-size: x-large">aphic Solutions</span></span></div><div style="text-align: center"><span style="font-size: small"><span><span>and</span></span></span></div><div style="text-align: center"><span style="color: #339966"><span style="font-size: large">Piedmont Natural Gas</span></span></div><div style="text-align: center">&nbsp\;</div><div style="text-align: center"><span style="font-size: medium">Saturday\, September 18\, 2010</span></div><div style="text-align: center"><span style="font-size: medium">Downtown Reidsville</span></div><div style="text-align: center"><span style="font-size: medium">Race kicks off from the parking lot at Market Square</span></div><div style="text-align: center">&nbsp\;</div><div style="text-align: center"><span style="font-size: medium">Register online at <a href="http://www.precisiontimingsystems.com">www.precisiontimingsystems.com</a></span></div><div style="text-align: center"><span style="font-size: medium">For more information call 336-349-8481</span></div><div style="text-align: center">&nbsp\;</div>
LOCATION:
UID:e.111.1487
SEQUENCE:3
DTSTAMP:20260424T052926Z
URL:https://business.reidsvillechamber.org/events/details/chamber-challenge-5k-09-18-2010-1487
END:VEVENT

END:VCALENDAR
