BEGIN:VCALENDAR
VERSION:2.0
PRODID:-//ChamberMaster//Event Calendar 2.0//EN
METHOD:PUBLISH
X-PUBLISHED-TTL:P3D
REFRESH-INTERVAL:P3D
CALSCALE:GREGORIAN
BEGIN:VEVENT
DTSTART;VALUE=DATE:20120113
DTEND;VALUE=DATE:20120114
TRANSP:TRANSPARENT
X-MICROSOFT-CDO-ALLDAYEVENT:TRUE
SUMMARY:Chamber Closed in honor of Martin Luther King Holiday
DESCRIPTION:The Reidsville Chamber of Commerce will be closed today in honor of the Martin Luther King Holiday.\n\nWe will be back in our office on Tuesday\, January\, 17 @ 9am.
X-ALT-DESC;FMTTYPE=text/html:The Reidsville Chamber of Commerce will be closed today in honor of the Martin Luther King Holiday.<br />\nWe will be back in our office on Tuesday\, January\, 17 @ 9am.
LOCATION:
UID:e.111.2122
SEQUENCE:3
DTSTAMP:20260421T175554Z
URL:https://business.reidsvillechamber.org/events/details/chamber-closed-in-honor-of-martin-luther-king-holiday-01-13-2012-2122
END:VEVENT

END:VCALENDAR
