BEGIN:VCALENDAR
VERSION:2.0
PRODID:-//ChamberMaster//Event Calendar 2.0//EN
METHOD:PUBLISH
X-PUBLISHED-TTL:P3D
REFRESH-INTERVAL:P3D
CALSCALE:GREGORIAN
BEGIN:VEVENT
DTSTART:20120503T120000Z
DTEND:20120503T130000Z
X-MICROSOFT-CDO-ALLDAYEVENT:FALSE
SUMMARY:Chamber Coffee -- 24 Blackbirds
DESCRIPTION:Chamber Coffee\n\n	hosted by:\n\n	\n\n	24 Blackbirds\n\n	@\n\n	 The Chamber Office\n\n	112 Settle Street\n\n	\n\n	Thursday\, May 3rd\n\n	at 8 a.m.\n\n	\n\n	Please contact the Reidsville Chamber at (336) 349-8481\n\n	if you have any questions.
X-ALT-DESC;FMTTYPE=text/html:<p style="text-align: center">\n	<br />\n	<span style="font-family: times new roman"><span style="font-size: 22pt">Chamber Coffee</span><br />\n	<span style="font-size: 14pt">hosted by:</span></span><br />\n	<br />\n	<span style="font-size: 26px">24 Blackbirds<br />\n	@<br />\n	&nbsp\;The Chamber Office<br />\n	<span style="font-size: 14px">112 Settle Street</span></span><br />\n	<br />\n	<span style="font-family: times new roman"><strong><span style="background: yellow"><span style="font-size: 16pt"><span style="background-color: rgb(255\,255\,0)">Thursday\, May 3rd</span></span></span></strong><br />\n	<span style="font-size: 16pt"><span style="background-color: rgb(255\,255\,0)">at 8 a.m.</span></span></span><br />\n	<br />\n	<span style="font-family: times new roman">Please contact the Reidsville Chamber at (336) 349-8481<br />\n	if you have any questions.</span><br />\n	<br />\n	&nbsp\;</p>\n
LOCATION:
UID:e.111.1572
SEQUENCE:3
DTSTAMP:20260421T190527Z
URL:https://business.reidsvillechamber.org/events/details/chamber-coffee-24-blackbirds-05-03-2012-1572
END:VEVENT

END:VCALENDAR
