BEGIN:VCALENDAR
VERSION:2.0
PRODID:-//ChamberMaster//Event Calendar 2.0//EN
METHOD:PUBLISH
X-PUBLISHED-TTL:P3D
REFRESH-INTERVAL:P3D
CALSCALE:GREGORIAN
BEGIN:VEVENT
DTSTART:20101104T120000Z
DTEND:20101104T130000Z
X-MICROSOFT-CDO-ALLDAYEVENT:FALSE
SUMMARY:Chamber Coffee - Annie Penn Hospital
DESCRIPTION:Join us for the Chamber Coffeehosted by Annie Penn Hospital 8:00 a.m.Thursday November 4\, 2010 618 S. Main Street4th Floor Womankind CenterReidsville\, NC
X-ALT-DESC;FMTTYPE=text/html:<div align="center"><span style="font-size: small"><span><strong>Join us for the</strong></span></span></div><div align="center">&nbsp\;</div><div align="center"><span style="font-family: Comic Sans MS"><span style="font-size: large"><strong>Chamber Coffee</strong></span></span></div><div align="center"><span style="font-family: Comic Sans MS"><font size="4"><strong>hosted by </strong></font></span></div><div align="center"><span style="font-family: Comic Sans MS"><span style="font-size: x-large"><font color="#ff0000"><strong>Annie Penn Hospital</strong></font></span></span></div><div align="center">&nbsp\;</div><div align="center"><font color="#0000ff" size="4"><strong>8:00 a.m.</strong></font></div><div align="center"><font color="#0000ff" size="4"><strong>Thursday November 4\, 2010</strong></font></div><div align="center">&nbsp\;</div><div align="center"><strong><font size="4">618 S. Main Street</font></strong></div><div align="center"><strong><font size="4">4th Floor Womankind Center</font></strong></div><div align="center"><strong><font size="4">Reidsville\, NC</font></strong></div>
LOCATION:
UID:e.111.1311
SEQUENCE:3
DTSTAMP:20260424T022836Z
URL:https://business.reidsvillechamber.org/events/details/chamber-coffee-annie-penn-hospital-11-04-2010-1311
END:VEVENT

END:VCALENDAR
