BEGIN:VCALENDAR
VERSION:2.0
PRODID:-//ChamberMaster//Event Calendar 2.0//EN
METHOD:PUBLISH
X-PUBLISHED-TTL:P3D
REFRESH-INTERVAL:P3D
CALSCALE:GREGORIAN
BEGIN:VEVENT
DTSTART:20091105T130000Z
DTEND:20091105T140000Z
X-MICROSOFT-CDO-ALLDAYEVENT:FALSE
SUMMARY:Chamber Coffee - Annie Penn Hospital
DESCRIPTION:Chamber CoffeeatAnnie Penn Hospital618 S. Main StreetReidsville\, NC  8:00 a.m.Thursday\, November 5\, 2009 Bring Canned Goods and nonperishable itemsforThe Reidsville Outreach Center
X-ALT-DESC;FMTTYPE=text/html:<div align="center"><font size="4"><strong>Chamber Coffee</strong></font></div><div align="center"><font size="4"><strong>at</strong></font></div><div align="center"><font color="#ff0000" size="5"><strong>Annie Penn Hospital</strong></font></div><div align="center"><font size="5"><strong>618 S. Main Street</strong></font></div><div align="center"><font size="5"><strong>Reidsville\, NC </strong></font></div><div align="center">&nbsp\;</div><div align="center"><font color="#0000ff" size="4"><strong>8:00 a.m.</strong></font></div><div align="center"><font color="#0000ff" size="4"><strong>Thursday\, November 5\, 2009</strong></font></div><div align="center">&nbsp\;</div><div align="center"><strong><font size="4">Bring Canned Goods and nonperishable items</font></strong></div><div align="center"><strong><font size="4">for</font></strong></div><div align="center"><strong><font size="4">The Reidsville Outreach Center</font></strong></div>
LOCATION:618 S. Main StreetReidsville\, NC
UID:e.111.820
SEQUENCE:3
DTSTAMP:20260424T235133Z
URL:https://business.reidsvillechamber.org/events/details/chamber-coffee-annie-penn-hospital-11-05-2009-820
END:VEVENT

END:VCALENDAR
