BEGIN:VCALENDAR
VERSION:2.0
PRODID:-//ChamberMaster//Event Calendar 2.0//EN
METHOD:PUBLISH
X-PUBLISHED-TTL:P3D
REFRESH-INTERVAL:P3D
CALSCALE:GREGORIAN
BEGIN:VEVENT
DTSTART:20100902T120000Z
DTEND:20100902T130000Z
X-MICROSOFT-CDO-ALLDAYEVENT:FALSE
SUMMARY:Chamber Coffee at Avante' of Reidsville
DESCRIPTION:Join us for the Chamber Coffeehosted by Avante of Reidsville 8:00 a.m.Thursday September 2\, 2010  523 Maple AvenueReidsville\, NC
X-ALT-DESC;FMTTYPE=text/html:<div align="center"><span style="font-size: small"><span><strong>Join us for the</strong></span></span></div><div align="center">&nbsp\;</div><div align="center"><span style="font-family: Comic Sans MS"><span style="font-size: large"><strong>Chamber Coffee</strong></span></span></div><div align="center"><span style="font-family: Comic Sans MS"><font size="4"><strong>hosted by </strong></font></span></div><div align="center"><span style="font-family: Comic Sans MS"><span style="font-size: x-large"><font color="#ff0000"><strong>Avante of Reidsville</strong></font></span></span></div><div align="center">&nbsp\;</div><div align="center"><font color="#0000ff" size="4"><strong>8:00 a.m.</strong></font></div><div align="center"><font color="#0000ff" size="4"><strong>Thursday September 2\, 2010</strong></font></div><div align="center">&nbsp\;</div><div align="center"><div align="center">&nbsp\;</div><div><strong><font size="4">523 Maple Avenue</font></strong></div><div><strong><font size="4">Reidsville\, NC</font></strong></div></div>
LOCATION:
UID:e.111.1309
SEQUENCE:3
DTSTAMP:20260424T053846Z
URL:https://business.reidsvillechamber.org/events/details/chamber-coffee-at-avante-of-reidsville-09-02-2010-1309
END:VEVENT

END:VCALENDAR
