BEGIN:VCALENDAR
VERSION:2.0
PRODID:-//ChamberMaster//Event Calendar 2.0//EN
METHOD:PUBLISH
X-PUBLISHED-TTL:P3D
REFRESH-INTERVAL:P3D
CALSCALE:GREGORIAN
BEGIN:VEVENT
DTSTART:20120607T120000Z
DTEND:20120607T130000Z
X-MICROSOFT-CDO-ALLDAYEVENT:FALSE
SUMMARY:Chamber Coffee -Baptist Temple
DESCRIPTION:Chamber Coffee\n\n	at\n\n	Baptist Temple Church\n\n	729 Wentworth St.\n\n	Reidsville\, NC\n\n	8:00 a.m.\n\n	Thursday\, June 7\, 2012
X-ALT-DESC;FMTTYPE=text/html:<p align="center">\n	<font face="Verdana" size="5"><strong>&nbsp\;Chamber Coffee</strong></font><br />\n	<font face="Verdana" size="5"><strong>at</strong></font><br />\n	<font size="5"><strong><font face="Verdana">Baptist Temple Church</font></strong><br />\n	<font face="Verdana" size="4">729 Wentworth St.<br />\n	Reidsville\, NC</font></font></p>\n<p align="center">\n	<font size="5"><font face="Verdana" size="4">8:00 a.m.<br />\n	Thursday\, June 7\, 2012</font></font></p>\n
LOCATION:729 Wentworth Street Reidsville\, NC
UID:e.111.800
SEQUENCE:3
DTSTAMP:20260421T215910Z
URL:https://business.reidsvillechamber.org/events/details/chamber-coffee-baptist-temple-06-07-2012-800
END:VEVENT

END:VCALENDAR
