BEGIN:VCALENDAR
VERSION:2.0
PRODID:-//ChamberMaster//Event Calendar 2.0//EN
METHOD:PUBLISH
X-PUBLISHED-TTL:P3D
REFRESH-INTERVAL:P3D
CALSCALE:GREGORIAN
BEGIN:VEVENT
DTSTART:20100304T130000Z
DTEND:20100304T140000Z
X-MICROSOFT-CDO-ALLDAYEVENT:FALSE
SUMMARY:Chamber Coffee - Carolina House of Reidsville
DESCRIPTION:Join us for theChamber CoffeeHosted by Carolina House of Reidsville 8:00 a.m.Thursday\, March 4th 2931 Vance Street ExtensionReidsville\, NC
X-ALT-DESC;FMTTYPE=text/html:<div style="text-align: center"><span style="font-size: medium">Join us for the</span></div><div style="text-align: center"><strong><span style="font-family: Comic Sans MS"><span style="font-size: x-large">Chamber Coffee</span></span></strong></div><div style="text-align: center"><span style="font-size: large"><strong><span style="font-family: Comic Sans MS"><span>Hosted by</span></span></strong></span><strong><span style="font-family: Comic Sans MS"><span style="font-size: x-large"> </span></span></strong></div><div style="text-align: center"><strong><span style="font-family: Comic Sans MS"><span style="font-size: x-large">Carolina House of Reidsville</span></span></strong></div><div style="text-align: center">&nbsp\;</div><div style="text-align: center"><span style="font-size: large">8:00 a.m.</span></div><div style="text-align: center"><span style="font-size: large">Thursday\,&nbsp\;March 4th</span></div><div style="text-align: center">&nbsp\;</div><div style="text-align: center"><span style="font-size: large">2931 Vance Street Extension</span></div><div style="text-align: center"><span style="font-size: large">Reidsville\, NC</span></div>
LOCATION:
UID:e.111.1287
SEQUENCE:3
DTSTAMP:20260424T152432Z
URL:https://business.reidsvillechamber.org/events/details/chamber-coffee-carolina-house-of-reidsville-03-04-2010-1287
END:VEVENT

END:VCALENDAR
