BEGIN:VCALENDAR
VERSION:2.0
PRODID:-//ChamberMaster//Event Calendar 2.0//EN
METHOD:PUBLISH
X-PUBLISHED-TTL:P3D
REFRESH-INTERVAL:P3D
CALSCALE:GREGORIAN
BEGIN:VEVENT
DTSTART;VALUE=DATE:20090910
DTEND;VALUE=DATE:20090911
TRANSP:TRANSPARENT
X-MICROSOFT-CDO-ALLDAYEVENT:TRUE
SUMMARY:Chamber Coffee - City of Reidsville
DESCRIPTION:Chamber CoffeeatCity of ReidsvillePlace: Market Square 8:00 a.m.Thursday\, September 10\, 2009 Bring Canned Goods and nonperishable itemsforThe Reidsville Outreach Center
X-ALT-DESC;FMTTYPE=text/html:<div align="center"><font size="4"><strong>Chamber Coffee</strong></font></div><div align="center"><font size="4"><strong>at</strong></font></div><div align="center"><font size="5" color="#ff0000"><strong>City of Reidsville</strong></font></div><div align="center"><font size="5"><strong>Place: Market Square</strong></font></div><div align="center">&nbsp\;</div><div align="center"><font size="4" color="#0000ff"><strong>8:00 a.m.</strong></font></div><div align="center"><font size="4" color="#0000ff"><strong>Thursday\, September 10\, 2009</strong></font></div><div align="center">&nbsp\;</div><div align="center"><strong><font size="4">Bring Canned Goods and nonperishable items</font></strong></div><div align="center"><strong><font size="4">for</font></strong></div><div align="center"><strong><font size="4">The Reidsville Outreach Center</font></strong></div>
LOCATION:Market Square
UID:e.111.818
SEQUENCE:3
DTSTAMP:20260425T010306Z
URL:https://business.reidsvillechamber.org/events/details/chamber-coffee-city-of-reidsville-09-10-2009-818
END:VEVENT

END:VCALENDAR
