BEGIN:VCALENDAR
VERSION:2.0
PRODID:-//ChamberMaster//Event Calendar 2.0//EN
METHOD:PUBLISH
X-PUBLISHED-TTL:P3D
REFRESH-INTERVAL:P3D
CALSCALE:GREGORIAN
BEGIN:VEVENT
DTSTART:20100603T120000Z
DTEND:20100603T130000Z
X-MICROSOFT-CDO-ALLDAYEVENT:FALSE
SUMMARY:Chamber Coffee - Goodwill Industries
DESCRIPTION:Join us for theChamber CoffeeHosted by Goodwill Industries 8:00 a.m.Thursday\, June 3\, 2010 1551 Freeway DriveReidsville\, NC
X-ALT-DESC;FMTTYPE=text/html:<div style="text-align: center"><span style="font-size: medium">Join us for the</span></div><div style="text-align: center"><strong><span style="font-family: Comic Sans MS"><span style="font-size: x-large">Chamber Coffee</span></span></strong></div><div style="text-align: center"><strong><span style="font-size: large"><span style="font-family: Comic Sans MS">Hosted by </span></span></strong></div><div style="text-align: center"><strong><span style="font-family: Comic Sans MS"><span style="font-size: x-large">Goodwill Industries</span></span></strong></div><div style="text-align: center">&nbsp\;</div><div style="text-align: center"><span style="font-size: large">8:00 a.m.</span></div><div style="text-align: center"><span style="font-size: large">Thursday\,&nbsp\;June 3\, 2010</span>&nbsp\;</div><div style="text-align: center"><span style="font-size: large">1551 Freeway Drive</span></div><div style="text-align: center"><span style="font-size: large">Reidsville\, NC</span></div>
LOCATION:
UID:e.111.1290
SEQUENCE:3
DTSTAMP:20260424T101021Z
URL:https://business.reidsvillechamber.org/events/details/chamber-coffee-goodwill-industries-06-03-2010-1290
END:VEVENT

END:VCALENDAR
