BEGIN:VCALENDAR
VERSION:2.0
PRODID:-//ChamberMaster//Event Calendar 2.0//EN
METHOD:PUBLISH
X-PUBLISHED-TTL:P3D
REFRESH-INTERVAL:P3D
CALSCALE:GREGORIAN
BEGIN:VEVENT
DTSTART:20100506T120000Z
DTEND:20100506T130000Z
X-MICROSOFT-CDO-ALLDAYEVENT:FALSE
SUMMARY:Chamber Coffee - NC Cooperative Extension Service
DESCRIPTION:Join us for theChamber CoffeeHosted by RC Cooperative Extension Serivce 8:00 a.m.Thursday\, May 6th  525 NC Hwy 65Agriculture CenterWentworth\, NC
X-ALT-DESC;FMTTYPE=text/html:<div style="text-align: center"><span style="font-size: medium">Join us for the</span></div><div style="text-align: center"><strong><span style="font-family: Comic Sans MS"><span style="font-size: x-large">Chamber Coffee</span></span></strong></div><div style="text-align: center"><span style="font-size: large"><span><strong><span style="font-family: Comic Sans MS">Hosted by </span></strong></span></span></div><div style="text-align: center"><strong><span style="font-family: Comic Sans MS"><span style="font-size: x-large">RC&nbsp\;Cooperative Extension Serivce</span></span></strong></div><div style="text-align: center">&nbsp\;</div><div style="text-align: center"><span style="font-size: large">8:00 a.m.</span></div><div style="text-align: center"><span style="font-size: large">Thursday\,&nbsp\;May 6th</span>&nbsp\;</div><div style="text-align: center">&nbsp\;</div><div style="text-align: center"><span style="font-size: large">525 NC Hwy 65</span></div><div style="text-align: center"><span style="font-size: large">Agriculture Center</span></div><div style="text-align: center"><span style="font-size: large">Wentworth\, NC</span></div>
LOCATION:
UID:e.111.1289
SEQUENCE:3
DTSTAMP:20260424T114011Z
URL:https://business.reidsvillechamber.org/events/details/chamber-coffee-nc-cooperative-extension-service-05-06-2010-1289
END:VEVENT

END:VCALENDAR
