BEGIN:VCALENDAR
VERSION:2.0
PRODID:-//ChamberMaster//Event Calendar 2.0//EN
METHOD:PUBLISH
X-PUBLISHED-TTL:P3D
REFRESH-INTERVAL:P3D
CALSCALE:GREGORIAN
BEGIN:VEVENT
DTSTART;VALUE=DATE:20091001
DTEND;VALUE=DATE:20091002
TRANSP:TRANSPARENT
X-MICROSOFT-CDO-ALLDAYEVENT:TRUE
SUMMARY:Chamber Coffee - News & Record
DESCRIPTION:Chamber Coffeehosted by News & RecordatReidsville Showcase site1550 Freeway Drive(former A&H Wayside across from Goodwiill) 8:00 a.m.Thursday\, October 1\, 2009 Bring Canned Goods and nonperishable itemsforThe Reidsville Outreach Center
X-ALT-DESC;FMTTYPE=text/html:<div align="center"><font size="4"><strong>Chamber Coffee</strong></font></div><div align="center"><font size="4"><strong>hosted by </strong></font></div><div align="center"><font color="#ff0000" size="5"><strong>News &amp\; Record</strong></font></div><div align="center"><font size="3"><strong>at</strong></font></div><div align="center"><font size="5"><strong>Reidsville Showcase site</strong></font></div><div align="center"><font size="5"><strong>1550 Freeway Drive</strong></font></div><div align="center"><font size="5"><strong>(former A&amp\;H Wayside across from Goodwiill)</strong></font></div><div align="center">&nbsp\;</div><div align="center"><font color="#0000ff" size="4"><strong>8:00 a.m.</strong></font></div><div align="center"><font color="#0000ff" size="4"><strong>Thursday\, October 1\, 2009</strong></font></div><div align="center">&nbsp\;</div><div align="center"><strong><font size="4">Bring Canned Goods and nonperishable items</font></strong></div><div align="center"><strong><font size="4">for</font></strong></div><div align="center"><strong><font size="4">The Reidsville Outreach Center</font></strong></div>
LOCATION:1550 Freeway DriveFormer A&H Wayside Furniture (across from Goodwill Ind)
UID:e.111.819
SEQUENCE:3
DTSTAMP:20260424T233742Z
URL:https://business.reidsvillechamber.org/events/details/chamber-coffee-news-record-10-01-2009-819
END:VEVENT

END:VCALENDAR
