BEGIN:VCALENDAR
VERSION:2.0
PRODID:-//ChamberMaster//Event Calendar 2.0//EN
METHOD:PUBLISH
X-PUBLISHED-TTL:P3D
REFRESH-INTERVAL:P3D
CALSCALE:GREGORIAN
BEGIN:VEVENT
DTSTART:20101007T120000Z
DTEND:20101007T130000Z
X-MICROSOFT-CDO-ALLDAYEVENT:FALSE
SUMMARY:Chamber Coffee - News & Record
DESCRIPTION:Join us for the\n\n	 \n\n	Chamber Coffee\n\n	hosted by \n\n	News & Record\n\n	 \n\n	8:00 a.m.\n\n	Thursday October 7th\n\n	\n\n	Pennrose Park Country Club\n\n	Reidsville\, NC
X-ALT-DESC;FMTTYPE=text/html:<div align="center">\n	<span style="font-size: small"><span><strong>Join us for the</strong></span></span></div>\n<div align="center">\n	&nbsp\;</div>\n<div align="center">\n	<span style="font-family: comic sans ms"><span style="font-size: large"><strong>Chamber Coffee</strong></span></span></div>\n<div align="center">\n	<span style="font-family: comic sans ms"><font size="4"><strong>hosted by </strong></font></span></div>\n<div align="center">\n	<span style="font-family: comic sans ms"><span style="font-size: x-large"><font color="#ff0000"><strong>News &amp\; Record</strong></font></span></span></div>\n<div align="center">\n	&nbsp\;</div>\n<div align="center">\n	<font color="#0000ff" size="4"><strong>8:00 a.m.</strong></font></div>\n<div align="center">\n	<font color="#0000ff" size="4"><strong>Thursday October 7th</strong></font><br />\n	<br />\n	<strong><font size="4">Pennrose Park Country Club<br />\n	Reidsville\, NC</font></strong></div>\n
LOCATION:
UID:e.111.1310
SEQUENCE:3
DTSTAMP:20260424T035958Z
URL:https://business.reidsvillechamber.org/events/details/chamber-coffee-news-record-10-07-2010-1310
END:VEVENT

END:VCALENDAR
