BEGIN:VCALENDAR
VERSION:2.0
PRODID:-//ChamberMaster//Event Calendar 2.0//EN
METHOD:PUBLISH
X-PUBLISHED-TTL:P3D
REFRESH-INTERVAL:P3D
CALSCALE:GREGORIAN
BEGIN:VEVENT
DTSTART:20100211T130000Z
DTEND:20100211T140000Z
X-MICROSOFT-CDO-ALLDAYEVENT:FALSE
SUMMARY:Chamber Coffee - ReDirections of Rockingham County
DESCRIPTION:Join us for theChamber CoffeeHosted by ReDirections of Rockingham County 8:00 a.m.Thursday\, Feb 11h 1311 Freeway DriveReidsville\, NC
X-ALT-DESC;FMTTYPE=text/html:<div style="text-align: center"><span style="font-size: medium">Join us for the</span></div><div style="text-align: center"><span style="font-family: Comic Sans MS"><span style="font-size: x-large">Chamber Coffee</span></span></div><div style="text-align: center"><span style="font-family: Comic Sans MS"><span style="font-size: x-large">Hosted by ReDirections of Rockingham County</span></span></div><div style="text-align: center">&nbsp\;</div><div style="text-align: center"><span style="font-size: large">8:00 a.m.</span></div><div style="text-align: center"><span style="font-size: large">Thursday\, Feb 11h</span></div><div style="text-align: center">&nbsp\;</div><div style="text-align: center"><span style="font-size: large">1311 Freeway Drive</span></div><div style="text-align: center"><span style="font-size: large">Reidsville\, NC</span></div>
LOCATION:
UID:e.111.1286
SEQUENCE:3
DTSTAMP:20260424T170533Z
URL:https://business.reidsvillechamber.org/events/details/chamber-coffee-redirections-of-rockingham-county-02-11-2010-1286
END:VEVENT

END:VCALENDAR
