BEGIN:VCALENDAR
VERSION:2.0
PRODID:-//ChamberMaster//Event Calendar 2.0//EN
METHOD:PUBLISH
X-PUBLISHED-TTL:P3D
REFRESH-INTERVAL:P3D
CALSCALE:GREGORIAN
BEGIN:VEVENT
DTSTART:20100401T120000Z
DTEND:20100401T130000Z
X-MICROSOFT-CDO-ALLDAYEVENT:FALSE
SUMMARY:Chamber Coffee - Reidsville Florist & Gifts
DESCRIPTION:Join us for theChamber CoffeeHosted by Reidsville Florist & Gifts 8:00 a.m.Thursday\, April 1st 119 S. Scales StreetReidsville\, NC
X-ALT-DESC;FMTTYPE=text/html:<div style="text-align: center"><span style="font-size: medium">Join us for the</span></div><div style="text-align: center"><strong><span style="font-family: Comic Sans MS"><span style="font-size: x-large">Chamber Coffee</span></span></strong></div><div style="text-align: center"><span style="font-size: large"><strong><span style="font-family: Comic Sans MS">Hosted by </span></strong></span></div><div style="text-align: center"><strong><span style="font-family: Comic Sans MS"><span style="font-size: x-large">Reidsville Florist &amp\; Gifts</span></span></strong></div><div style="text-align: center">&nbsp\;</div><div style="text-align: center"><span style="font-size: large">8:00 a.m.</span></div><div style="text-align: center"><span style="font-size: large">Thursday\,&nbsp\;April 1st</span></div><div style="text-align: center">&nbsp\;</div><div style="text-align: center"><span style="font-size: large">119 S. Scales Street</span></div><div style="text-align: center"><span style="font-size: large">Reidsville\, NC</span></div>
LOCATION:
UID:e.111.1288
SEQUENCE:3
DTSTAMP:20260424T132703Z
URL:https://business.reidsvillechamber.org/events/details/chamber-coffee-reidsville-florist-gifts-04-01-2010-1288
END:VEVENT

END:VCALENDAR
