BEGIN:VCALENDAR
VERSION:2.0
PRODID:-//ChamberMaster//Event Calendar 2.0//EN
METHOD:PUBLISH
X-PUBLISHED-TTL:P3D
REFRESH-INTERVAL:P3D
CALSCALE:GREGORIAN
BEGIN:VEVENT
DTSTART:20120405T120000Z
DTEND:20120405T130000Z
X-MICROSOFT-CDO-ALLDAYEVENT:FALSE
SUMMARY:Chamber Coffee - Rockingham County Partnership for Children
DESCRIPTION:Chamber Coffee\n\n	at\n\n	Rockingham County Partnership for Children\n\n	7572 Highway 87\n\n	Reidsville\, NC \n\n	 \n\n	8:00 a.m.\n\n	Thursday\, April 5th\, 2012\n\n	 \n\n	Bring Canned Goods and nonperishable items\n\n	for\n\n	The Reidsville Outreach Center
X-ALT-DESC;FMTTYPE=text/html:<div align="center">\n	<font size="4"><strong>Chamber Coffee</strong></font></div>\n<div align="center">\n	<font size="4"><strong>at</strong></font></div>\n<div align="center">\n	<font color="#ff0000" size="5"><strong>Rockingham County Partnership for Children</strong></font></div>\n<div align="center">\n	<font size="5"><strong>7572 Highway 87</strong></font></div>\n<div align="center">\n	<font size="5"><strong>Reidsville\, NC </strong></font></div>\n<div align="center">\n	&nbsp\;</div>\n<div align="center">\n	<font color="#0000ff" size="4"><strong>8:00 a.m.</strong></font></div>\n<div align="center">\n	<font color="#0000ff" size="4"><strong>Thursday\, April 5th\, 2012</strong></font></div>\n<div align="center">\n	&nbsp\;</div>\n<div align="center">\n	<strong><font size="4">Bring Canned Goods and nonperishable items</font></strong></div>\n<div align="center">\n	<strong><font size="4">for</font></strong></div>\n<div align="center">\n	<strong><font size="4">The Reidsville Outreach Center</font></strong></div>\n
LOCATION:7572 Highway 87 Reidsville\, NC
UID:e.111.816
SEQUENCE:3
DTSTAMP:20260421T130934Z
URL:https://business.reidsvillechamber.org/events/details/chamber-coffee-rockingham-county-partnership-for-children-04-05-2012-816
END:VEVENT

END:VCALENDAR
