BEGIN:VCALENDAR
VERSION:2.0
PRODID:-//ChamberMaster//Event Calendar 2.0//EN
METHOD:PUBLISH
X-PUBLISHED-TTL:P3D
REFRESH-INTERVAL:P3D
CALSCALE:GREGORIAN
BEGIN:VEVENT
DTSTART:20100805T120000Z
DTEND:20100805T130000Z
X-MICROSOFT-CDO-ALLDAYEVENT:FALSE
SUMMARY:Chamber Coffee - Rockingham County Partnership for Children
DESCRIPTION:Join us for theChamber Coffeehosted by Rockingham County Partnership for Children 8:00 a.m.Thursday August 5th 7572 NC Hwy 87Reidsville\, NC
X-ALT-DESC;FMTTYPE=text/html:<div align="center"><span style="font-size: small"><span><strong>Join us for the</strong></span></span><span style="font-size: medium"></span></div><div align="center"><span style="font-size: medium"></span></div><div align="center"><span style="font-family: Comic Sans MS"><span style="font-size: large"><strong>Chamber Coffee</strong></span></span></div><div align="center"><span style="font-family: Comic Sans MS"><font size="4"><strong>hosted by </strong></font></span></div><div align="center"><span style="font-family: Comic Sans MS"><span style="font-size: x-large"><font color="#ff0000"><strong>Rockingham County Partnership for Children</strong></font></span></span></div><div align="center">&nbsp\;</div><div align="center"><font color="#0000ff" size="4"><strong>8:00 a.m.</strong></font></div><div align="center"><font color="#0000ff" size="4"><strong>Thursday August 5th</strong></font></div><div align="center">&nbsp\;</div><div align="center"><strong><font size="4">7572 NC Hwy 87</font></strong></div><div align="center"><strong><font size="4">Reidsville\, NC</font></strong></div>
LOCATION:
UID:e.111.1297
SEQUENCE:3
DTSTAMP:20260424T065748Z
URL:https://business.reidsvillechamber.org/events/details/chamber-coffee-rockingham-county-partnership-for-children-08-05-2010-1297
END:VEVENT

END:VCALENDAR
