BEGIN:VCALENDAR
VERSION:2.0
PRODID:-//ChamberMaster//Event Calendar 2.0//EN
METHOD:PUBLISH
X-PUBLISHED-TTL:P3D
REFRESH-INTERVAL:P3D
CALSCALE:GREGORIAN
BEGIN:VEVENT
DTSTART:20140904T120000Z
DTEND:20140904T130000Z
X-MICROSOFT-CDO-ALLDAYEVENT:FALSE
SUMMARY:Chamber Coffee - United Way of Rockingham County
DESCRIPTION:Chamber Coffee\n\nHosted By\n\nUnited Way of Rockingham County\n\n\n\nThe coffee will be held at the\n\nReidsville YMCA\n\nUpstairs in the BB&T Room\n\n504 S. Main Street\n\nReidsville\, NC 27320\n\n8:00 a.m.\n\nThursday\, September 4\, 2014
X-ALT-DESC;FMTTYPE=text/html:<p align="center"><font face="Verdana" size="5"><strong>&nbsp\;Chamber Coffee</strong></font><br />\n<font face="Verdana" size="5"><span style="line-height: 38.400001525878906px\;"><b>Hosted By</b></span></font><br />\n<font face="Verdana" size="5"><span style="line-height: 38.400001525878906px\;"><b>United Way of Rockingham County</b></span></font><br />\n<br />\n<span style="font-size:18px\;">The coffee will be held at the<br />\nReidsville&nbsp\;YMCA<br />\nUpstairs in the BB&amp\;T Room<br />\n504 S. Main Street</span><br />\n<font size="5"><font face="Verdana" size="4">Reidsville\, NC 27320</font></font></p>\n\n<p align="center"><font size="5"><font face="Verdana" size="4">8:00 a.m.<br />\nThursday\, September 4\, 2014</font></font></p>\n
LOCATION:Reidsville YMCA Upstairs in the BB&T Room 504 S. Main Street Reidsville\, NC 27320
UID:e.111.2898
SEQUENCE:3
DTSTAMP:20260422T214145Z
URL:https://business.reidsvillechamber.org/events/details/chamber-coffee-united-way-of-rockingham-county-09-04-2014-2898
END:VEVENT

END:VCALENDAR
