BEGIN:VCALENDAR
VERSION:2.0
PRODID:-//ChamberMaster//Event Calendar 2.0//EN
METHOD:PUBLISH
X-PUBLISHED-TTL:P3D
REFRESH-INTERVAL:P3D
CALSCALE:GREGORIAN
BEGIN:VEVENT
DTSTART:20100708T210000Z
DTEND:20100708T230000Z
X-MICROSOFT-CDO-ALLDAYEVENT:FALSE
SUMMARY:Chamber Ice Cream Social sponsored by Piedmont Natural Gas
DESCRIPTION:Join us for theAnnualChamber Ice Cream Socialsponsored by PIEDMONT NATURAL GASwith Hot Dogs provided by Richard's Meats & Things A summer treat for our membersCold Shot will be performing a mix of classic music hits\, hotdogs and homemade ice cream will be provided! Bring the family and join in the summer fun Grounds of the Penn HouseMaple Ave\, Reidsville\, NC5:30-7:00 p.m.Thursday\, July 8th
X-ALT-DESC;FMTTYPE=text/html:<div style="text-align: center"><span style="font-size: medium">Join us for the</span></div><div style="text-align: center"><span style="font-size: large"><span>Annual</span></span></div><div style="text-align: center"><span style="font-size: x-large"><span style="font-family: Comic Sans MS"><span><span><strong>Chamber Ice Cream Social</strong></span></span></span></span></div><div style="text-align: center"><span style="font-size: x-large"><span style="font-family: Comic Sans MS"><span><span><strong>sponsored by </strong></span></span></span></span></div><div style="text-align: center"><span style="font-size: x-large"><span style="font-family: Comic Sans MS"><span><span><strong>PIEDMONT&nbsp\;NATURAL&nbsp\;GAS</strong></span></span></span></span></div><div style="text-align: center"><span style="font-size: x-large"><span style="font-family: Comic Sans MS"><span><span><strong><span style="font-size: medium">with Hot Dogs provided by Richard's Meats &amp\; Things</span></strong></span></span></span></span></div><div style="text-align: center">&nbsp\;</div><div style="text-align: center"><span style="font-size: x-large"><span style="font-family: Comic Sans MS"><span><span><strong><span style="font-size: medium">A summer treat for our members</span></strong></span></span></span></span></div><div style="text-align: center"><span style="font-size: x-large"><span style="font-family: Comic Sans MS"><span><span><strong><span style="font-size: medium">Cold Shot will be performing a mix of classic music hits\, hotdogs and homemade ice cream will be provided!</span></strong></span></span></span></span></div><div style="text-align: center">&nbsp\;</div><div style="text-align: center"><span style="font-size: x-large"><span style="font-family: Comic Sans MS"><span><span><strong><span style="font-size: medium">Bring the family and join in the summer fun</span></strong></span></span></span></span></div><div style="text-align: center">&nbsp\;</div><div style="text-align: center"><span style="font-size: x-large"><span style="font-family: Comic Sans MS"><span><span><strong><span style="font-size: medium"><span style="font-size: large">Grounds of the Penn House</span></span></strong></span></span></span></span></div><div style="text-align: center"><span style="font-size: x-large"><span style="font-family: Comic Sans MS"><span><span><strong><span style="font-size: medium"><span style="font-size: large">Maple Ave\, Reidsville\, NC</span></span></strong></span></span></span></span></div><div style="text-align: center"><span style="font-size: x-large"><span style="font-family: Comic Sans MS"><span><span><strong><span style="font-size: medium"><span style="font-size: large">5:30-7:00 p.m.</span></span></strong></span></span></span></span></div><div style="text-align: center"><span style="font-size: x-large"><span style="font-family: Comic Sans MS"><span><span><strong><span style="font-size: medium"><span style="font-size: large">Thursday\, July 8th</span></span></strong></span></span></span></span></div><div style="text-align: center">&nbsp\;</div>
LOCATION:
UID:e.111.1291
SEQUENCE:3
DTSTAMP:20260424T103432Z
URL:https://business.reidsvillechamber.org/events/details/chamber-ice-cream-social-sponsored-by-piedmont-natural-gas-07-08-2010-1291
END:VEVENT

END:VCALENDAR
