BEGIN:VCALENDAR
VERSION:2.0
PRODID:-//ChamberMaster//Event Calendar 2.0//EN
METHOD:PUBLISH
X-PUBLISHED-TTL:P3D
REFRESH-INTERVAL:P3D
CALSCALE:GREGORIAN
BEGIN:VEVENT
DTSTART;VALUE=DATE:20120731
DTEND;VALUE=DATE:20120801
TRANSP:TRANSPARENT
X-MICROSOFT-CDO-ALLDAYEVENT:TRUE
SUMMARY:Chamber of Commerce Member Discount Day
DESCRIPTION:Reidsville Belk would like to invite all Chamber of Commerce members and staff to come to the store Tuesday July 31st from 10 AM to 8 PM. We are offering a special 20% off discount to you on regular and sale priced merchandise!\n\n\n\nThank you for your support of our store\, and we hope to see you on Tuesday!\n\n\n\nAny Questions\, you may contact the Reidsville Belk at 342-3321 ext. 201
X-ALT-DESC;FMTTYPE=text/html:Reidsville Belk would like to invite all Chamber of Commerce members and staff to come to the store Tuesday July 31st from 10 AM to 8 PM. We are offering a special 20% off discount to you on regular and sale priced merchandise!<br />\n<br />\nThank you for your support of our store\, and we hope to see you on Tuesday!<br />\n<br />\nAny Questions\, you may contact the Reidsville Belk at 342-3321 ext. 201
LOCATION:Reidsville Belk--Pennrose Mall
UID:e.111.2298
SEQUENCE:3
DTSTAMP:20260421T175204Z
URL:https://business.reidsvillechamber.org/events/details/chamber-of-commerce-member-discount-day-07-31-2012-2298
END:VEVENT

END:VCALENDAR
