BEGIN:VCALENDAR
VERSION:2.0
PRODID:-//ChamberMaster//Event Calendar 2.0//EN
METHOD:PUBLISH
X-PUBLISHED-TTL:P3D
REFRESH-INTERVAL:P3D
CALSCALE:GREGORIAN
BEGIN:VEVENT
DTSTART:20100723T180000Z
DTEND:20100723T210000Z
X-MICROSOFT-CDO-ALLDAYEVENT:FALSE
SUMMARY:Chamber Open House
DESCRIPTION:The Chamber Staff & Board of Directorscordially invite youto attend our Open Houseon Friday\, July 23\, 2010from 2:00 - 5:00 pmat our new officelocated at 112 Settle Street\, Downtown Reidsville(across from Market Square) Tour the building\, visit with friends\, & see firsthandwhat a wonderful asset the new office isto carrying forth the Chamber's mission & goals!
X-ALT-DESC;FMTTYPE=text/html:<div style="text-align: center"><span style="font-size: medium">The Chamber Staff &amp\; Board of Directors</span></div><div style="text-align: center"><span style="font-size: medium">cordially invite you</span></div><div style="text-align: center"><span style="font-size: medium">to attend our </span></div><div style="text-align: center"><span style="font-size: medium">Open House</span></div><div style="text-align: center"><span style="font-size: medium">on Friday\, July 23\, 2010</span></div><div style="text-align: center"><span style="font-size: medium">from 2:00 - 5:00 pm</span></div><div style="text-align: center"><span style="font-size: medium">at our new office</span></div><div style="text-align: center"><span style="font-size: medium">located at 112 Settle Street\, Downtown Reidsville</span></div><div style="text-align: center"><span style="font-size: medium">(across from Market Square)</span></div><div style="text-align: center">&nbsp\;</div><div style="text-align: center"><span style="font-size: medium">Tour the building\, visit with friends\, &amp\; see firsthand</span></div><div style="text-align: center"><span style="font-size: medium">what&nbsp\;a wonderful asset the new office is</span></div><div style="text-align: center"><span style="font-size: medium">to&nbsp\;carrying forth&nbsp\;the Chamber's mission &amp\;&nbsp\;goals!</span></div>
LOCATION:
UID:e.111.1486
SEQUENCE:3
DTSTAMP:20260424T084907Z
URL:https://business.reidsvillechamber.org/events/details/chamber-open-house-07-23-2010-1486
END:VEVENT

END:VCALENDAR
