BEGIN:VCALENDAR
VERSION:2.0
PRODID:-//ChamberMaster//Event Calendar 2.0//EN
METHOD:PUBLISH
X-PUBLISHED-TTL:P3D
REFRESH-INTERVAL:P3D
CALSCALE:GREGORIAN
BEGIN:VEVENT
DTSTART:20091107T190000Z
DTEND:20091107T220000Z
X-MICROSOFT-CDO-ALLDAYEVENT:FALSE
SUMMARY:Champions for Children Parent & child golf Tournament
DESCRIPTION:Champions for ChildrenParent and Child Golf Tournament Saturday\, November 7\, 2009 Wolf Creek Golf Course722 Wolf Island Road\, Reidsville\, NC 2:00 p.m. Check-in2:30 p.m. shotgun Start Spend some fun\, quality time with your family by participating in this year's signature event to support the Early Childhood Education Endowment. Parents\, grandparents or other adults may play with children.Teams with children ages 7-18 will play 9 hole tournamentTeams with children ages 4-6 may chose 4 or 9 hole tournamentTournament format is Modified Alternate Shot$40 entry fee for parent/child team of two$10 for addtional children (max 2 children per adult)$5 for 2 mulligans Entry fee includes green and cart fees\, light dinner and door prizes.  Tournament prizes will be awarded for each age group.
X-ALT-DESC;FMTTYPE=text/html:<div style="text-align: center"><span style="font-size: large"><span style="font-family: Comic Sans MS"><span style=""><span style="color: #339966"><strong>Champions for Children</strong></span></span></span></span></div><div style="text-align: center"><span style="font-size: large"><span style="font-family: Comic Sans MS"><span style=""><span style="color: #339966"><strong>Parent and Child Golf Tournament</strong></span></span></span></span></div><div style="text-align: center">&nbsp\;</div><div style="text-align: center"><span style="font-family: Comic Sans MS"><span style="font-size: medium"><span style="color: #339966"><strong>Saturday\, November 7\, 2009</strong></span></span></span></div><div style="text-align: center">&nbsp\;</div><div style="text-align: center"><span style="font-family: Comic Sans MS"><span style="font-size: medium"><span style="color: #339966"><strong><span style="font-size: small">Wolf Creek Golf Course</span></strong></span></span></span></div><div style="text-align: center">722 Wolf Island Road\, Reidsville\, NC</div><div style="text-align: center">&nbsp\;</div><div style="text-align: center"><span style="font-family: Comic Sans MS"><span style="font-size: small"><span style="color: #808080"><span style="color: #99cc00"><span style="color: #800080">2:00 p.m. Check-in</span></span></span></span></span></div><div style="text-align: center"><span style="font-family: Comic Sans MS"><span style="font-size: small"><span style="color: #808080"><span style="color: #99cc00"><span style="color: #800080">2:30 p.m. shotgun Start</span></span></span></span></span></div><div style="text-align: center">&nbsp\;</div><div style="text-align: center"><span style="font-family: Comic Sans MS"><span style="font-size: small"><span style="color: #808080"><span style="color: #99cc00"><span style="color: #800080">Spend some fun\, quality time with your family by participating in this year's signature event to support the Early Childhood Education Endowment.</span></span></span></span></span></div><div style="text-align: center">&nbsp\;</div><div style="text-align: center"><span style="font-family: Comic Sans MS">Parents\, grandparents or other adults may play with children.</span></div><div style="text-align: center"><span style="font-family: Comic Sans MS">Teams with children ages 7-18 will play 9 hole tournament</span></div><div style="text-align: center"><span style="font-family: Comic Sans MS">Teams with children ages 4-6 may chose 4 or 9 hole tournament</span></div><div style="text-align: center"><span style="font-family: Comic Sans MS">Tournament format is Modified Alternate Shot</span></div><div style="text-align: center"><span style="font-family: Comic Sans MS">$40 entry fee for parent/child team of two</span></div><div style="text-align: center"><span style="font-family: Comic Sans MS">$10 for addtional children (max 2 children per adult)</span></div><div style="text-align: center"><span style="font-family: Comic Sans MS">$5 for 2 mulligans</span></div><div style="text-align: center">&nbsp\;</div><div style="text-align: center"><span style="font-family: Comic Sans MS">Entry fee includes green and cart fees\, light dinner and door prizes.&nbsp\; Tournament prizes will be awarded for each age group.&nbsp\; </span></div>
LOCATION:
UID:e.111.1266
SEQUENCE:3
DTSTAMP:20260424T221326Z
URL:https://business.reidsvillechamber.org/events/details/champions-for-children-parent-child-golf-tournament-11-07-2009-1266
END:VEVENT

END:VCALENDAR
