BEGIN:VCALENDAR
VERSION:2.0
PRODID:-//ChamberMaster//Event Calendar 2.0//EN
METHOD:PUBLISH
X-PUBLISHED-TTL:P3D
REFRESH-INTERVAL:P3D
CALSCALE:GREGORIAN
BEGIN:VEVENT
DTSTART:20120608T230000Z
DTEND:20120609T010000Z
X-MICROSOFT-CDO-ALLDAYEVENT:FALSE
SUMMARY:Charity Wine Tasting Event for ReDirections of Rockingham County
DESCRIPTION:Please join us for our Charity Wine Tasting Event! The event will be filled with great wine\, dinner and a silent auction. It is a great opportunity to meet others in the community who want to make a difference.
X-ALT-DESC;FMTTYPE=text/html:Please join us for our Charity Wine Tasting Event! The event will be filled with great wine\, dinner and a silent auction. It is a great opportunity to meet others in the community who want to make a difference.
LOCATION:Stonefield Cellars 5220 NC Hwy 68 N Stokesdale\, NC
UID:e.111.2241
SEQUENCE:3
DTSTAMP:20260425T111002Z
URL:https://business.reidsvillechamber.org/events/details/charity-wine-tasting-event-for-redirections-of-rockingham-county-06-08-2012-2241
END:VEVENT

END:VCALENDAR
