BEGIN:VCALENDAR
VERSION:2.0
PRODID:-//ChamberMaster//Event Calendar 2.0//EN
METHOD:PUBLISH
X-PUBLISHED-TTL:P3D
REFRESH-INTERVAL:P3D
CALSCALE:GREGORIAN
BEGIN:VEVENT
DTSTART;VALUE=DATE:20111211
DTEND;VALUE=DATE:20111212
TRANSP:TRANSPARENT
X-MICROSOFT-CDO-ALLDAYEVENT:TRUE
SUMMARY:Christmas at Wright Tavern
DESCRIPTION:Help us celebrate an old fashioned Christmas at Wright Tavern on Sunday\, December 11\, 2011. The Tavern will don historically accurate holiday decorations\, with the upstairs adorned in the simple charm of the early 19th century while the first floor displays the embellishment of the late 1800s Victorian era. In addition to faithfully recreated decorations of fresh boxwood\, beeswax\, etc.\, period specific holiday treats will be served. Guided tours will be available. \n\n \n\nAs a bonus this year\, Mr. Richard Teague is graciously opening High Rock Farm to us. Built in 1807\, Mr. Teague's home is a fine example of the short-lived Federal style of architecture. This local landmark is known for its beauty\, especially during the holiday season. Don't miss the opportunity to visit this rarely exhibited private home. Light refreshments will be served and tours will be available.
X-ALT-DESC;FMTTYPE=text/html:&nbsp\;<strong><span style="font-size: 14pt"> </span></strong><span style="font-size: 11pt">Help us celebrate an old fashioned Christmas at Wright Tavern on Sunday\, December 11\, 2011. The Tavern will don historically accurate holiday decorations\, with the upstairs adorned in the simple charm of the early 19</span><span style="font-size: 7pt">th </span><span style="font-size: 11pt">century while the first floor displays the embellishment of the late 1800s Victorian era. In addition to faithfully recreated decorations of fresh boxwood\, beeswax\, etc.\, period specific holiday treats will be served. Guided tours will be available. </span><br />\n&nbsp\;<br />\n<span style="font-size: 11pt">As a bonus this year\, Mr. Richard Teague is graciously opening High Rock Farm to us. Built in 1807\, Mr. Teague&rsquo\;s home is a fine example of the short-lived Federal style of architecture. This local landmark is known for its beauty\, especially during the holiday season. Don&rsquo\;t miss the opportunity to visit this rarely exhibited private home. Light refreshments will be served and tours will be available.</span><br />\n
LOCATION:Wright Tavern 1073 NC 65\, Wentworth\, NC 27375 960 High Rock Road\, Gibsonville\, NC 27249
UID:e.111.2104
SEQUENCE:3
DTSTAMP:20260421T192531Z
URL:https://business.reidsvillechamber.org/events/details/christmas-at-wright-tavern-12-11-2011-2104
END:VEVENT

END:VCALENDAR
