BEGIN:VCALENDAR
VERSION:2.0
PRODID:-//ChamberMaster//Event Calendar 2.0//EN
METHOD:PUBLISH
X-PUBLISHED-TTL:P3D
REFRESH-INTERVAL:P3D
CALSCALE:GREGORIAN
BEGIN:VEVENT
DTSTART:20101225T040000Z
DTEND:20101225T050000Z
X-MICROSOFT-CDO-ALLDAYEVENT:FALSE
SUMMARY:Christmas Eve Candlelight Service @ First United Methodist Church
DESCRIPTION:Christmas Eve Candlelight Service\n\n	at First United Methodist Church\n\n	\n\n	Friday\, December 24th\n\n	at 11:00 p.m.\n\n	\n\n	1520 South Scales Street\n\n	Reidsville\, NC 27320-5636\n\n	(336) 349-6017\n\n	\n\n	http://www.gbgm-umc.org/firstumcreidsville/
X-ALT-DESC;FMTTYPE=text/html:<p style="text-align: center">\n	<br />\n	<span style="font-size: 18px"><em><span style="color: #008000"><strong>Christmas Eve </strong></span><span style="color: #ff0000"><span><strong>Candlelight Service</strong></span></span></em><br />\n	<span style="color: #008000"><strong>at First United Methodist Church</strong></span></span><br />\n	<br />\n	<span style="font-size: 14px">Friday\, December 24th<br />\n	at <u><strong>11:00 p.m.</strong></u></span><br />\n	<br />\n	1520 South Scales Street<br />\n	Reidsville\, NC 27320-5636<br />\n	(336) 349-6017<br />\n	<br />\n	<a href="http://www.gbgm-umc.org/firstumcreidsville/">http://www.gbgm-umc.org/firstumcreidsville/</a></p>\n
LOCATION:
UID:e.111.1562
SEQUENCE:3
DTSTAMP:20260424T004738Z
URL:https://business.reidsvillechamber.org/events/details/christmas-eve-candlelight-service-first-united-methodist-church-12-24-2010-1562
END:VEVENT

END:VCALENDAR
