BEGIN:VCALENDAR
VERSION:2.0
PRODID:-//ChamberMaster//Event Calendar 2.0//EN
METHOD:PUBLISH
X-PUBLISHED-TTL:P3D
REFRESH-INTERVAL:P3D
CALSCALE:GREGORIAN
BEGIN:VEVENT
DTSTART;VALUE=DATE:20111207
DTEND;VALUE=DATE:20111226
TRANSP:TRANSPARENT
X-MICROSOFT-CDO-ALLDAYEVENT:TRUE
SUMMARY:Christmas Gifts Available from the Theatre Guild of Rockingham County
DESCRIPTION:Need some great Christmas gifts?? We have just the right ones!!\n\n\n\n * TGRC car magnets - $3.00\n\n * Willy Wonka candy bars (Great Stocking Stuffers!!) - $1.50\n\n * Tickets to see a TGRC show\n\n * Donation to TGRC in memory or honor of someone special\n\n\n\n  If we can help you complete your Christmas shopping\, please e-mail\n\n  adirector@tgrc.com . Happy Holidays and God Bless!!
X-ALT-DESC;FMTTYPE=text/html:Need some great Christmas gifts?? We have just the right ones!!<br />\n<br />\n&nbsp\;* TGRC car magnets - $3.00<br />\n&nbsp\;* Willy Wonka candy bars (Great Stocking Stuffers!!) - $1.50<br />\n&nbsp\;* Tickets to see a TGRC show<br />\n&nbsp\;* Donation to TGRC in memory or honor of someone special<br />\n<br />\n&nbsp\; If we can help you complete your Christmas shopping\, please e-mail<br />\n&nbsp\; <a href="mailto:adirector@tgrc.com" ymailto="mailto:adirector@tgrc.com"><span class="yshortcuts" id="lw_1323274755_3">adirector@tgrc.com</span></a> . Happy Holidays and God Bless!!<br />\n<br />\n<br />\n<span _fck_bookmark="1" style="display: none">&nbsp\;</span>
LOCATION:
UID:e.111.2110
SEQUENCE:3
DTSTAMP:20260421T193233Z
URL:https://business.reidsvillechamber.org/events/details/christmas-gifts-available-from-the-theatre-guild-of-rockingham-county-12-07-2011-2110
END:VEVENT

END:VCALENDAR
