BEGIN:VCALENDAR
VERSION:2.0
PRODID:-//ChamberMaster//Event Calendar 2.0//EN
METHOD:PUBLISH
X-PUBLISHED-TTL:P3D
REFRESH-INTERVAL:P3D
CALSCALE:GREGORIAN
BEGIN:VEVENT
DTSTART:20101217T223000Z
DTEND:20101218T010000Z
X-MICROSOFT-CDO-ALLDAYEVENT:FALSE
SUMMARY:Christmas in Wentworth at WayCup Coffee
DESCRIPTION:WayCup Coffee will be hosting our 1st Annual "Christmas in Wentworth" event including local artists\,live music by Kristi Lindow\, and door prizes. Gifts will be available for purchase
X-ALT-DESC;FMTTYPE=text/html:WayCup Coffee will be hosting our 1st Annual "Christmas in Wentworth" event including local artists\,live music by Kristi Lindow\, and door prizes. Gifts will be available for purchase
LOCATION:WayCup Coffee
UID:e.111.1560
SEQUENCE:3
DTSTAMP:20260424T005732Z
URL:https://business.reidsvillechamber.org/events/details/christmas-in-wentworth-at-waycup-coffee-12-17-2010-1560
END:VEVENT

END:VCALENDAR
