BEGIN:VCALENDAR
VERSION:2.0
PRODID:-//ChamberMaster//Event Calendar 2.0//EN
METHOD:PUBLISH
X-PUBLISHED-TTL:P3D
REFRESH-INTERVAL:P3D
CALSCALE:GREGORIAN
BEGIN:VEVENT
DTSTART:20101218T000000Z
DTEND:20101220T000000Z
X-MICROSOFT-CDO-ALLDAYEVENT:FALSE
SUMMARY:Christmas Musical @ Baptist Temple Church
DESCRIPTION:The Christmas Musical "GOD SPEAKING"  will be performed by the music and drama ministries of Baptist Temple Church.  We follow two strangers who meet while their families are shopping and see how this "wonderful time of the year" presents some problems that can be solved if we just pause and listen to God Speaking.
X-ALT-DESC;FMTTYPE=text/html:The Christmas Musical "GOD SPEAKING"  will be performed by the music and drama ministries of Baptist Temple Church.  We follow two strangers who meet while their families are shopping and see how this "wonderful time of the year" presents some problems that can be solved if we just pause and listen to God Speaking.\n<br>
LOCATION:Baptist Temple Church 729 Wentworth Street\, Reidsville\, NC
UID:e.111.1555
SEQUENCE:3
DTSTAMP:20260424T004739Z
URL:https://business.reidsvillechamber.org/events/details/christmas-musical-baptist-temple-church-12-17-2010-1555
END:VEVENT

END:VCALENDAR
