BEGIN:VCALENDAR
VERSION:2.0
PRODID:-//ChamberMaster//Event Calendar 2.0//EN
METHOD:PUBLISH
X-PUBLISHED-TTL:P3D
REFRESH-INTERVAL:P3D
CALSCALE:GREGORIAN
BEGIN:VEVENT
DTSTART:20111118T220000Z
DTEND:20111119T010000Z
X-MICROSOFT-CDO-ALLDAYEVENT:FALSE
SUMMARY:Christmas Open House at Reidsville Florist & Gifts
DESCRIPTION:Join us for our Christmas Open House\n\n\n\n\n\n\n\nClick Here for Flyer
X-ALT-DESC;FMTTYPE=text/html:Join us for our Christmas Open House<a href="http://cloud.chambermaster.com/userfiles/UserFiles/chambers/111/File/ReidsvilleFloristNOBLK.pdf"><br />\n<br />\n<br />\n<br />\nClick Here for Flyer</a>
LOCATION:Friday\, November 18\, 2011
UID:e.111.2081
SEQUENCE:3
DTSTAMP:20260421T212443Z
URL:https://business.reidsvillechamber.org/events/details/christmas-open-house-at-reidsville-florist-gifts-11-18-2011-2081
END:VEVENT

END:VCALENDAR
