BEGIN:VCALENDAR
VERSION:2.0
PRODID:-//ChamberMaster//Event Calendar 2.0//EN
METHOD:PUBLISH
X-PUBLISHED-TTL:P3D
REFRESH-INTERVAL:P3D
CALSCALE:GREGORIAN
BEGIN:VEVENT
DTSTART:20090910T220000Z
DTEND:20090911T000000Z
X-MICROSOFT-CDO-ALLDAYEVENT:FALSE
SUMMARY:CLAY WINE CHILLER CLASS
DESCRIPTION:WINE CHILLER (Jim & Dottie Talley)\nFebruary 19\, Thursday\, 6-8 pm\, Fee: $28\nCreate a custom one-of-a-kind clay wine chiller. Clay properties have a wonderful way of keeping your wine at a constant temperature. Your design will keep it beautiful on your table. (All abilities.)
X-ALT-DESC;FMTTYPE=text/html:WINE CHILLER (Jim & Dottie Talley)\nFebruary 19\, Thursday\, 6-8 pm\, Fee: $28\nCreate a custom one-of-a-kind clay wine chiller. Clay properties have a wonderful way of keeping your wine at a constant temperature. Your design will keep it beautiful on your table. (All abilities.)
LOCATION:Upstairs studio at Everyday Art 209 SW Market Street\, Downtown Reidsville
UID:e.111.826
SEQUENCE:3
DTSTAMP:20260425T005632Z
URL:https://business.reidsvillechamber.org/events/details/clay-wine-chiller-class-09-10-2009-826
END:VEVENT

END:VCALENDAR
