BEGIN:VCALENDAR
VERSION:2.0
PRODID:-//ChamberMaster//Event Calendar 2.0//EN
METHOD:PUBLISH
X-PUBLISHED-TTL:P3D
REFRESH-INTERVAL:P3D
CALSCALE:GREGORIAN
BEGIN:VEVENT
DTSTART;VALUE=DATE:20120301
DTEND;VALUE=DATE:20120317
TRANSP:TRANSPARENT
X-MICROSOFT-CDO-ALLDAYEVENT:TRUE
SUMMARY:Common Liver Diseases and Their impact on Our Health
DESCRIPTION:Najeeb Rehman\, MD\, a gastroenterologist\, will review common liver diseases- such as hepatitis A\, B and C\, fatty liver \, alcoholic liver and drug-induced liver diseases- and explain treatment options. Please join Dr. Rehman for an informative lecture with time for questions.
X-ALT-DESC;FMTTYPE=text/html:Najeeb Rehman\, MD\, a gastroenterologist\, will review common liver diseases- such as hepatitis A\, B and C\, fatty liver \, alcoholic liver and drug-induced liver diseases- and explain treatment options. Please join Dr. Rehman for an informative lecture with time for questions.
LOCATION:Annie Penn Hospital WomanKind Center 4th floor
UID:e.111.2160
SEQUENCE:3
DTSTAMP:20260421T131410Z
URL:https://business.reidsvillechamber.org/events/details/common-liver-diseases-and-their-impact-on-our-health-03-01-2012-2160
END:VEVENT

END:VCALENDAR
