BEGIN:VCALENDAR
VERSION:2.0
PRODID:-//ChamberMaster//Event Calendar 2.0//EN
METHOD:PUBLISH
X-PUBLISHED-TTL:P3D
REFRESH-INTERVAL:P3D
CALSCALE:GREGORIAN
BEGIN:VEVENT
DTSTART:20101028T190000Z
DTEND:20101028T203000Z
X-MICROSOFT-CDO-ALLDAYEVENT:FALSE
SUMMARY:Communications Sells! Baby You're a Rich Man!
DESCRIPTION:Communication Sells!\n\n	\n\n	Ticket to Ride!   Come aboard and join the most successful money making musical group of all time\, The Beatles\, to learn superstar skills guaranteed to rock your business.\n\n	\n\n	Knock your business from Liverpool Cavern to Yankee Stadium heights with superstar back and main stage presence and connector skills.  After this program you'll know how to sell yourself to attract\, develop\, and maintain relationships for business and personal success.\n\n	\n\n	This training will provide individuals with an opportunity to learn and practice interpersonal skills with one fo the best author/seminar trainers in the business\, Jane Hight McMurry. Former participants are quoted as saying\, "Her real-life stories help particpants understand the value of communication training and its relevance to professinoal and personal success.  Participants leave this training better prepared and more confident in their ability to socialize\, interact and network in the professional world."\n\n	\n\n	Click on the tab above to register online (when asked for login info\, just enter as"nonmember")
X-ALT-DESC;FMTTYPE=text/html:<p class="MsoNormal" style="text-align: center\; text-indent: 0.5in\; margin: 0in 0in 0pt\; background: white">\n	<span style="font-size: 16px"><span style="font-family: 'century gothic'\, 'sans-serif'\; color: black\; mso-fareast-font-family: 'times new roman'\; mso-bidi-font-family: arial"><o:p><span style="font-family: verdana"><strong>Communication Sells!<br />\n	<br />\n	<em><span style="font-size: 14px">Ticket to Ride!&nbsp\;</span></em></strong><span style="font-size: 14px">&nbsp\; Come aboard and join the most successful money making musical group of all time\, The Beatles\, to learn superstar skills guaranteed to rock your business.<br />\n	<br />\n	Knock your business from Liverpool Cavern to Yankee Stadium heights with superstar back and main stage presence and connector skills.&nbsp\; After this program you&#39\;ll know how to sell yourself to attract\, develop\, and maintain relationships for business and personal success.<br />\n	<br />\n	This training will provide individuals with an opportunity to learn and practice interpersonal skills with one fo the best author/seminar trainers in the business\, Jane Hight McMurry.&nbsp\;Former participants are quoted as saying\, &quot\;Her real-life stories help particpants understand the value of communication training and its relevance to professinoal and personal success.&nbsp\; Participants leave this training better prepared and more confident in their ability to socialize\, interact and network in the professional world.&quot\;<br />\n	<br />\n	Click on the tab above to register online (when asked for login info\, just enter as&quot\;nonmember&quot\;)</span></span></o:p></span></span></p>\n
LOCATION:Reidsville Chamber of Commerce 112 Settle Street Reidsville\, NC
UID:e.111.1518
SEQUENCE:3
DTSTAMP:20260424T040416Z
URL:https://business.reidsvillechamber.org/events/details/communications-sells-baby-you-re-a-rich-man-10-28-2010-1518
END:VEVENT

END:VCALENDAR
