BEGIN:VCALENDAR
VERSION:2.0
PRODID:-//ChamberMaster//Event Calendar 2.0//EN
METHOD:PUBLISH
X-PUBLISHED-TTL:P3D
REFRESH-INTERVAL:P3D
CALSCALE:GREGORIAN
BEGIN:VEVENT
DTSTART:20100828T140000Z
DTEND:20100828T170000Z
X-MICROSOFT-CDO-ALLDAYEVENT:FALSE
SUMMARY:Community Carnival
DESCRIPTION:First United Methodist ChurchFREE Community Carnival on Saturday\, August 28\, 2010from 10:00 am to 1:00 pm PUBLIC INVITED Bouncy InflationLots & Lots of GamesHorse & Pony RidesHot Dog LunchCotton Candy\, Snow Cones\, PopcornPRIZES!   FUN For the Whole Family Located on Scales StreetAcross from Reidsville's Pennrose Mall
X-ALT-DESC;FMTTYPE=text/html:<div style="text-align: center"><span style="font-size: large"><span><span style="color: #ff6600">First United Methodist Church</span></span></span></div><div style="text-align: center"><span style="font-size: medium"><span><span style="font-size: small"><span style="color: #ff6600"><span style="font-size: large"><span style="color: #3366ff">FREE&nbsp\;</span>Community Carnival</span></span></span></span></span></div><div style="text-align: center">&nbsp\;</div><div style="text-align: center"><span style="font-size: medium"><span><span><span><span style="color: #ff6600"><span><span style="color: #3366ff">on Saturday\, August 28\, 2010</span></span></span></span></span></span></span></div><div style="text-align: center"><span style="font-size: medium"><span><span><span><span><span style="color: #ff6600"><span><span style="color: #3366ff">from 10:00 am to 1:00 pm</span></span></span></span></span></span></span></span></div><div style="text-align: center">&nbsp\;</div><div style="text-align: center"><span style="font-size: medium"><span><span><span><span><span style="color: #ff6600"><span><span style="color: #3366ff">PUBLIC INVITED</span></span></span></span></span></span></span></span></div><div style="text-align: center">&nbsp\;</div><div style="text-align: center"><span style="font-size: medium"><span><span><span><span><span style="color: #ff6600"><span><span style="color: #3366ff"><span style="color: #ff6600">Bouncy Inflation</span></span></span></span></span></span></span></span></span></div><div style="text-align: center"><span style="font-size: medium"><span><span><span><span><span style="color: #ff6600"><span><span style="color: #3366ff"><span style="color: #ff6600">Lots &amp\; Lots of Games</span></span></span></span></span></span></span></span></span></div><div style="text-align: center"><span style="font-size: medium"><span><span><span><span><span style="color: #ff6600"><span><span style="color: #3366ff"><span style="color: #ff6600">Horse &amp\;&nbsp\;Pony Rides</span></span></span></span></span></span></span></span></span></div><div style="text-align: center"><span style="font-size: medium"><span><span><span><span><span style="color: #ff6600"><span><span style="color: #3366ff"><span style="color: #ff6600">Hot Dog Lunch</span></span></span></span></span></span></span></span></span></div><div style="text-align: center"><span style="font-size: medium"><span><span><span><span><span style="color: #ff6600"><span><span style="color: #3366ff"><span style="color: #ff6600">Cotton Candy\, Snow Cones\, Popcorn</span></span></span></span></span></span></span></span></span></div><div style="text-align: center"><span style="font-size: medium"><span><span><span><span><span style="color: #ff6600"><span><span style="color: #3366ff"><span style="color: #ff6600">PRIZES!</span></span></span></span></span></span></span></span></span></div><div style="text-align: center">&nbsp\;</div><div style="text-align: center"><span style="font-size: medium"><span><span><span><span><span style="color: #ff6600"><span><span style="color: #3366ff"><span style="color: #ff6600"><span style="color: #3366ff">&nbsp\;&nbsp\;</span><u><span style="color: #3366ff">FUN For the Whole Family</span></u></span></span></span></span></span></span></span></span></span></div><div style="text-align: center">&nbsp\;</div><div style="text-align: center"><span style="font-size: medium"><span><span><span><span><span style="color: #ff6600"><span><span style="color: #3366ff"><span style="color: #ff6600"><u><span style="color: #3366ff">Located on Scales Street</span></u></span></span></span></span></span></span></span></span></span></div><div style="text-align: center"><span style="font-size: medium"><span><span><span><span><span style="color: #ff6600"><span><span style="color: #3366ff"><span style="color: #ff6600"><u><span style="color: #3366ff">Across from&nbsp\;Reidsville&rsquo\;s Pennrose Mall</span></u></span></span></span></span></span></span></span></span></span></div>
LOCATION:
UID:e.111.1498
SEQUENCE:3
DTSTAMP:20260424T065441Z
URL:https://business.reidsvillechamber.org/events/details/community-carnival-08-28-2010-1498
END:VEVENT

END:VCALENDAR
