BEGIN:VCALENDAR
VERSION:2.0
PRODID:-//ChamberMaster//Event Calendar 2.0//EN
METHOD:PUBLISH
X-PUBLISHED-TTL:P3D
REFRESH-INTERVAL:P3D
CALSCALE:GREGORIAN
BEGIN:VEVENT
DTSTART:20090829T140000Z
DTEND:20090829T170000Z
X-MICROSOFT-CDO-ALLDAYEVENT:FALSE
SUMMARY:Community Carnival at FUMC
DESCRIPTION:Community CarnivalFirst United Methodist Church1520 S. Scales StreetFREE & fun for all ages!10:00 am-1:00pmSaturday\, August 29\, 2009Games\, Food\, bounce house\, events
X-ALT-DESC;FMTTYPE=text/html:<h1 style="text-align: center"><span style="color: #cc00ff"><strong><span style="font-size: x-large"><span style="font-family: Comic Sans MS">Community Carnival</span></span></strong></span></h1><div style="text-align: center"><span style="font-family: Comic Sans MS"><span style="font-size: large"><span style="font-size: medium">First United Methodist Church</span></span></span></div><div style="text-align: center"><span style="font-family: Comic Sans MS"><span style="font-size: large"><span style="font-size: medium">1520 S. Scales Street</span></span></span></div><div style="text-align: center"><strong><span style="color: #993366"><span style="font-family: Comic Sans MS"><span style="font-size: medium"><span style="font-size: large">FREE &amp\; fun for all ages!</span></span></span></span></strong></div><div style="text-align: center"><span style="font-family: Comic Sans MS"><span style="font-size: large"><span style="font-size: medium"><span style="font-size: large">10:00 am-1:00pm</span></span></span></span></div><div style="text-align: center"><span style="font-family: Comic Sans MS"><span style="font-size: large"><span style="font-size: medium"><span style="font-size: large">Saturday\, August 29\, 2009</span></span></span></span></div><div style="text-align: center"><span style="font-family: Comic Sans MS"><span style="font-size: large"><span style="font-size: medium"><span style="font-size: large">Games\, Food\, bounce house\, events</span></span></span></span></div><div style="text-align: center">&nbsp\;</div><div style="text-align: center">&nbsp\;</div><div style="text-align: center">&nbsp\;</div>
LOCATION:
UID:e.111.1191
SEQUENCE:3
DTSTAMP:20260425T024028Z
URL:https://business.reidsvillechamber.org/events/details/community-carnival-at-fumc-08-29-2009-1191
END:VEVENT

END:VCALENDAR
