BEGIN:VCALENDAR
VERSION:2.0
PRODID:-//ChamberMaster//Event Calendar 2.0//EN
METHOD:PUBLISH
X-PUBLISHED-TTL:P3D
REFRESH-INTERVAL:P3D
CALSCALE:GREGORIAN
BEGIN:VEVENT
DTSTART:20110312T140000Z
DTEND:20110313T040000Z
X-MICROSOFT-CDO-ALLDAYEVENT:FALSE
SUMMARY:Community Coffee & Conversation at WayCup Coffee
DESCRIPTION:Click for Event Flyer!
X-ALT-DESC;FMTTYPE=text/html:<span style="font-size: 24px\;"><strong><a href="http://cloud.chambermaster.com/userfiles/UserFiles/chambers/111/File/Community%20Coffee%20and%20Conversation.pdf"><br />\n<span style="color: rgb(0\, 0\, 255)\;">Click for Event Flyer!</span></a></strong></span>
LOCATION:
UID:e.111.1613
SEQUENCE:3
DTSTAMP:20260423T194935Z
URL:https://business.reidsvillechamber.org/events/details/community-coffee-conversation-at-waycup-coffee-03-12-2011-1613
END:VEVENT

END:VCALENDAR
