BEGIN:VCALENDAR
VERSION:2.0
PRODID:-//ChamberMaster//Event Calendar 2.0//EN
METHOD:PUBLISH
X-PUBLISHED-TTL:P3D
REFRESH-INTERVAL:P3D
CALSCALE:GREGORIAN
BEGIN:VEVENT
DTSTART:20110324T220000Z
DTEND:20110324T230000Z
X-MICROSOFT-CDO-ALLDAYEVENT:FALSE
SUMMARY:Community Educational Seminar at Annie Penn Hospital
DESCRIPTION:Conservative Pain Management - Back pain is often misunderstood because it has many different sources.  Discover options available for reducing your pain and regaining your quality of life.  Join Dr. Shawn Dalton-Bethea\, Interventional Physiatrist and President of Performance Spine & Sports Specialists\, PA\, as she discusses non-surgical ways to manage your pain.
X-ALT-DESC;FMTTYPE=text/html:Conservative Pain Management - Back pain is often misunderstood because it has many different sources.  Discover options available for reducing your pain and regaining your quality of life.  Join Dr. Shawn Dalton-Bethea\, Interventional Physiatrist and President of Performance Spine &amp\; Sports Specialists\, PA\, as she discusses non-surgical ways to manage your pain.
LOCATION:Annie Penn Hospital Cafeteria
UID:e.111.1886
SEQUENCE:3
DTSTAMP:20260423T213109Z
URL:https://business.reidsvillechamber.org/events/details/community-educational-seminar-at-annie-penn-hospital-03-24-2011-1886
END:VEVENT

END:VCALENDAR
