BEGIN:VCALENDAR
VERSION:2.0
PRODID:-//ChamberMaster//Event Calendar 2.0//EN
METHOD:PUBLISH
X-PUBLISHED-TTL:P3D
REFRESH-INTERVAL:P3D
CALSCALE:GREGORIAN
BEGIN:VEVENT
DTSTART:20090820T190000Z
DTEND:20090820T230000Z
X-MICROSOFT-CDO-ALLDAYEVENT:FALSE
SUMMARY:Community Health & Safety Fair
DESCRIPTION:Health Screenings (blood pressure\, glucose\, kidney) fire prevention\, bike safety\, child car seat checks.  Refeshments and door prizes.  Sponsored by the Annie Penn Hospital Emergency Department.
X-ALT-DESC;FMTTYPE=text/html:Health Screenings (blood pressure\, glucose\, kidney) fire prevention\, bike safety\, child car seat checks.  Refeshments and door prizes.  Sponsored by the Annie Penn Hospital Emergency Department.
LOCATION:Annie Penn Hospital\, Main Lobby and Entrance 618 S. Main Street\, Reidsville\, NC
UID:e.111.1208
SEQUENCE:3
DTSTAMP:20260425T024114Z
URL:https://business.reidsvillechamber.org/events/details/community-health-safety-fair-08-20-2009-1208
END:VEVENT

END:VCALENDAR
