BEGIN:VCALENDAR
VERSION:2.0
PRODID:-//ChamberMaster//Event Calendar 2.0//EN
METHOD:PUBLISH
X-PUBLISHED-TTL:P3D
REFRESH-INTERVAL:P3D
CALSCALE:GREGORIAN
BEGIN:VEVENT
DTSTART:20260121T150000Z
DTEND:20260121T170000Z
X-MICROSOFT-CDO-ALLDAYEVENT:FALSE
SUMMARY:Compassionate Café
DESCRIPTION:Ancora's Compassionate Caf  is an open\, welcoming community event designed to create space for learning\, conversation\, and connection around serious illness\, hospice care\, and mental health support. Over coffee and conversation\, attendees will hear from Ancora's experienced staff as they provide approachable\, high-level overviews of our Serious Illness Care services\, hospice care\, and counseling center helping demystify what support looks like at different stages of life and health.\n\n \n\nThe event will also feature Dr. Ed Hawkins\, a retired local physician and former Medical Director for Hospice of Rockingham County\, who will share insights drawn from decades of compassionate care and community service.\n\n\n\nWhether you are navigating a serious illness\, supporting a loved one\, working in healthcare\, or simply wanting to better understand available resources\, Ancora's Compassionate Caf  offers a relaxed\, informative setting to ask questions\, gain clarity\, and connect with experts who care deeply about our community.\n\n \n\nThe Compassionate Caf  is free but we do ask that attendees bring a nonperishable food item (Ramen noodles\, instant coffee/tea\, instant oatmeal\, mashed potato packs\, canned food with pop tops).
X-ALT-DESC;FMTTYPE=text/html:<div>Ancora&rsquo\;s Compassionate Caf&eacute\; is an open\, welcoming community event designed to create space for learning\, conversation\, and connection around serious illness\, hospice care\, and mental health support. Over coffee and conversation\, attendees will hear from Ancora&rsquo\;s experienced staff as they provide approachable\, high-level overviews of our Serious Illness Care services\, hospice care\, and counseling center&mdash\;helping demystify what support looks like at different stages of life and health.<br />\n&nbsp\;</div>\n\n<div>The event will also feature Dr. Ed Hawkins\, a retired local physician and former Medical Director for Hospice of Rockingham County\, who will share insights drawn from decades of compassionate care and community service.</div>\n\n<div><br />\nWhether you are navigating a serious illness\, supporting a loved one\, working in healthcare\, or simply wanting to better understand available resources\, Ancora&rsquo\;s Compassionate Caf&eacute\; offers a relaxed\, informative setting to ask questions\, gain clarity\, and connect with experts who care deeply about our community.<br />\n&nbsp\;</div>\n\n<div>The Compassionate Caf&eacute\; is free but we do ask that attendees bring a nonperishable food item (Ramen noodles\, instant coffee/tea\, instant oatmeal\, mashed potato packs\, canned food with pop tops).</div>\n
LOCATION:Reidsville Christian Church Fellowship Hall 2020 South Park Dr. Reidsville\, NC 27320
UID:e.111.11360
SEQUENCE:3
DTSTAMP:20260420T144029Z
URL:https://business.reidsvillechamber.org/events/details/compassionate-caf&#233;-11360
END:VEVENT

END:VCALENDAR
