BEGIN:VCALENDAR
VERSION:2.0
PRODID:-//ChamberMaster//Event Calendar 2.0//EN
METHOD:PUBLISH
X-PUBLISHED-TTL:P3D
REFRESH-INTERVAL:P3D
CALSCALE:GREGORIAN
BEGIN:VEVENT
DTSTART:20120223T220000Z
DTEND:20120224T010000Z
X-MICROSOFT-CDO-ALLDAYEVENT:FALSE
SUMMARY:Countywide Afterhours and Young Professionals Kick-Off
DESCRIPTION:A County Wide Chamber Afterhours and Kick-Off for the Young Professionals Network will be held:\n\n         Thursday\, February 23rd  \n\n                     5pm-8pm \n\n                           @\n\n                  BonaManze\n\n   Located @ 2741 NC HWY 704\n\nClick Here for More Information\n\n\n\n Contact the Reidsville Chamber at 336-349-8481
X-ALT-DESC;FMTTYPE=text/html:&nbsp\;<span style="font-size: 20px"> A County Wide Chamber Afterhours and Kick-Off for&nbsp\;the Young Professionals&nbsp\;Network&nbsp\;will be held:</span><br />\n<span style="font-size: 22px">&nbsp\;&nbsp\;&nbsp\;&nbsp\;&nbsp\;&nbsp\;&nbsp\;&nbsp\; Thursday\, February 23rd&nbsp\;&nbsp\;<br />\n&nbsp\;&nbsp\;&nbsp\;&nbsp\;&nbsp\;&nbsp\;&nbsp\;&nbsp\;&nbsp\;&nbsp\;&nbsp\;&nbsp\;&nbsp\;&nbsp\;&nbsp\;&nbsp\;&nbsp\;&nbsp\;&nbsp\;&nbsp\; 5pm-8pm&nbsp\;<br />\n&nbsp\;&nbsp\;&nbsp\;&nbsp\;&nbsp\;&nbsp\;&nbsp\;&nbsp\;&nbsp\;&nbsp\;&nbsp\;&nbsp\;&nbsp\;&nbsp\;&nbsp\;&nbsp\;&nbsp\;&nbsp\;&nbsp\;&nbsp\;&nbsp\;&nbsp\;&nbsp\;&nbsp\;&nbsp\;&nbsp\; @<br />\n&nbsp\;&nbsp\;&nbsp\;&nbsp\;&nbsp\;&nbsp\;&nbsp\;&nbsp\;&nbsp\;&nbsp\;&nbsp\;&nbsp\;&nbsp\;&nbsp\;&nbsp\;&nbsp\;&nbsp\; BonaManze<br />\n&nbsp\;&nbsp\;&nbsp\;Located @ 2741 NC HWY 704<br />\n<a href="http://cloud.chambermaster.com/userfiles/UserFiles/chambers/111/File/chamber-afterhours20122.txt">Click Here for More Information</a><br />\n<br />\n&nbsp\;<span style="font-size: 18px">Contact the Reidsville Chamber at 336-349-8481&nbsp\;</span></span>
LOCATION:
UID:e.111.2146
SEQUENCE:3
DTSTAMP:20260421T161234Z
URL:https://business.reidsvillechamber.org/events/details/countywide-afterhours-and-young-professionals-kick-off-02-23-2012-2146
END:VEVENT

END:VCALENDAR
