BEGIN:VCALENDAR
VERSION:2.0
PRODID:-//ChamberMaster//Event Calendar 2.0//EN
METHOD:PUBLISH
X-PUBLISHED-TTL:P3D
REFRESH-INTERVAL:P3D
CALSCALE:GREGORIAN
BEGIN:VEVENT
DTSTART;VALUE=DATE:20120118
DTEND;VALUE=DATE:20120119
TRANSP:TRANSPARENT
X-MICROSOFT-CDO-ALLDAYEVENT:TRUE
SUMMARY:Countywide Chamber Coffee
DESCRIPTION:Countywide Chambers Coffee\, sponsored by the RCC Foundation.\n\n	Date: January 18\, 2012\n\n	Place: Rockingham Community College\,\n\n	Whitcomb Student Center\n\n	Hwy 65\,\n\n	Wentworth\, NC\n\n	Time: 8:00 a.m.
X-ALT-DESC;FMTTYPE=text/html:<p align="center">\n	<font color="#ff0000" size="4"><strong>Countywide Chambers Coffee\, sponsored by the RCC Foundation.</strong></font></p>\n<p align="center">\n	<font color="#ff0000" size="4"><strong>Date: January 18\, 2012</strong></font></p>\n<p align="center">\n	<font color="#ff0000" size="4"><strong>Place: Rockingham Community College\,<br />\n	Whitcomb Student Center</strong></font></p>\n<p align="center">\n	<font color="#ff0000" size="4"><strong>Hwy 65\,<br />\n	Wentworth\, NC</strong></font></p>\n<p align="center">\n	<font color="#ff0000" size="4"><strong>Time: 8:00 a.m.<span _fck_bookmark="1" style="display: none">&nbsp\;</span></strong></font></p>\n
LOCATION:Rockingham Community College\, Whitcomb Student Center Hwy 65\, Wentworth\, NC
UID:e.111.2115
SEQUENCE:3
DTSTAMP:20260421T174252Z
URL:https://business.reidsvillechamber.org/events/details/countywide-chamber-coffee-01-18-2012-2115
END:VEVENT

END:VCALENDAR
