BEGIN:VCALENDAR
VERSION:2.0
PRODID:-//ChamberMaster//Event Calendar 2.0//EN
METHOD:PUBLISH
X-PUBLISHED-TTL:P3D
REFRESH-INTERVAL:P3D
CALSCALE:GREGORIAN
BEGIN:VEVENT
DTSTART:20111207T130000Z
DTEND:20111207T130000Z
X-MICROSOFT-CDO-ALLDAYEVENT:FALSE
SUMMARY:Countywide Chamber Coffee - American Red Cross
DESCRIPTION:Countywide Chamber Coffee\n\n	for the\n\n	Reidsville\, Eden and Western-Rockingham Chambers\n\n	 \n\n	hosted by \n\n	 \n\n	The American Red Cross  \n\n	 \n\n	 \n\n	 \n\n	 \n\n	 \n\n	Please bring can goods and/or non perishable food items
X-ALT-DESC;FMTTYPE=text/html:<div align="center">\n	&nbsp\;</div>\n<div align="center">\n	<span style="font-family: comic sans ms"><span style="font-size: large"><font color="#ff0000"><strong>Countywide Chamber Coffee<br />\n	for the<br />\n	Reidsville\, Eden and Western-Rockingham Chambers</strong></font></span></span></div>\n<div align="center">\n	&nbsp\;</div>\n<div align="center">\n	<span style="font-family: comic sans ms"><span style="font-size: large"><font color="#ff0000"><strong><span style="font-size: medium">hosted by </span></strong></font></span></span></div>\n<div align="center">\n	&nbsp\;</div>\n<div align="center">\n	<span style="font-family: comic sans ms"><span style="font-size: x-large"><font color="#ff0000"><strong>The American Red Cross&nbsp\;</strong></font>&nbsp\;</span></span></div>\n<div align="center">\n	&nbsp\;</div>\n<div align="center">\n	&nbsp\;</div>\n<div>\n	&nbsp\;</div>\n<div align="center">\n	&nbsp\;</div>\n<div align="center">\n	&nbsp\;</div>\n<div align="center">\n	<font color="#0000ff" size="4"><strong>Please bring can goods and/or non perishable food items</strong></font></div>
LOCATION:3692 NC Hwy 14 Reidsville\, NC 27320 ReisR
UID:e.111.1312
SEQUENCE:3
DTSTAMP:20260421T192936Z
URL:https://business.reidsvillechamber.org/events/details/countywide-chamber-coffee-american-red-cross-12-07-2011-1312
END:VEVENT

END:VCALENDAR
