BEGIN:VCALENDAR
VERSION:2.0
PRODID:-//ChamberMaster//Event Calendar 2.0//EN
METHOD:PUBLISH
X-PUBLISHED-TTL:P3D
REFRESH-INTERVAL:P3D
CALSCALE:GREGORIAN
BEGIN:VEVENT
DTSTART:20101208T130000Z
DTEND:20101208T140000Z
X-MICROSOFT-CDO-ALLDAYEVENT:FALSE
SUMMARY:Countywide Chamber Coffee-American Red Cross
DESCRIPTION:Countywide Chamber Coffee\n\n	hosted by\n\n	The American Red Cross\n\n	3692 NC Hwy 14\n\n	Reidsville\, NC\n\n	\n\n	Wednesday\, December 8\, 2010\n\n	8:00 am\n\n	Bring canned goods/nonperishible foods to help stock the pantry
X-ALT-DESC;FMTTYPE=text/html:<p style="text-align: center">\n	<span style="font-family: courier new"><span style="font-size: 14px"><span style="font-size: 16px"><span style="font-size: 22px"><strong>Countywide Chamber Coffee</strong></span><br />\n	hosted by<br />\n	<strong><em><span style="font-size: 20px">The American Red Cross</span></em></strong><br />\n	<span style="font-size: 20px"><span style="font-size: 18px"><font face="Courier New">3692 NC Hwy 14</font><br />\n	Reidsville\, NC<br />\n	<br />\n	Wednesday\, December 8\, 2010<br />\n	8:00 am<br />\n	Bring canned goods/nonperishible foods to help stock the pantry</span></span></span></span></span><br />\n	&nbsp\;</p>\n
LOCATION:The American Red Cross 3692 NC Hwy 14 Reidsville\, NC
UID:e.111.1517
SEQUENCE:3
DTSTAMP:20260424T004739Z
URL:https://business.reidsvillechamber.org/events/details/countywide-chamber-coffee-american-red-cross-12-08-2010-1517
END:VEVENT

END:VCALENDAR
