BEGIN:VCALENDAR
VERSION:2.0
PRODID:-//ChamberMaster//Event Calendar 2.0//EN
METHOD:PUBLISH
X-PUBLISHED-TTL:P3D
REFRESH-INTERVAL:P3D
CALSCALE:GREGORIAN
BEGIN:VEVENT
DTSTART:20100114T010000Z
DTEND:20100114T020000Z
X-MICROSOFT-CDO-ALLDAYEVENT:FALSE
SUMMARY:Countywide Coffee
DESCRIPTION:Countywide Chamber Coffee8:00 a.m.WednesdayJanuary 13\, 2010Rockingham Community CollegeWhitcomb Student Center If you have an announcement\, send it to your Chamber via email\nbefore noon\, January 12\, 2010   president@reidsvillechamber.org\nBe advised that no unscheduled announcements will be made from the floor.
X-ALT-DESC;FMTTYPE=text/html:<div style="text-align: center"><span style="font-size: large">Countywide Chamber Coffee</span></div><div style="text-align: center"><span style="font-size: large">8:00 a.m.</span></div><div style="text-align: center"><span style="font-size: large">Wednesday</span></div><div style="text-align: center"><span style="font-size: large">January 13\, 2010</span></div><div style="text-align: center"><span style="font-size: large">Rockingham Community College</span></div><div style="text-align: center"><span style="font-size: large">Whitcomb Student Center</span></div><div style="text-align: center">&nbsp\;</div><div style="text-align: center"><span style="font-size: large"><span style="font-size: small">If you have an announcement\, send it to your Chamber via email<br />before noon\, January 12\, 2010 &ndash\; </span><a title="blocked::mailto:president@edenchamber.com" href="mailto:president@reidsvillechamber.org"><span style="font-size: small">president@reidsvillechamber.org</span></a><span style="font-size: small"><br />Be advised that no unscheduled announcements will be made from the floor.</span><p align="center">&nbsp\;</p></span></div>
LOCATION:
UID:e.111.1276
SEQUENCE:3
DTSTAMP:20260424T201834Z
URL:https://business.reidsvillechamber.org/events/details/countywide-coffee-01-13-2010-1276
END:VEVENT

END:VCALENDAR
