BEGIN:VCALENDAR
VERSION:2.0
PRODID:-//ChamberMaster//Event Calendar 2.0//EN
METHOD:PUBLISH
X-PUBLISHED-TTL:P3D
REFRESH-INTERVAL:P3D
CALSCALE:GREGORIAN
BEGIN:VEVENT
DTSTART:20251115T180000Z
DTEND:20251115T200000Z
X-MICROSOFT-CDO-ALLDAYEVENT:FALSE
SUMMARY:COURT CONQUERORS
DESCRIPTION:"Courtside Conquerors!"\n\n\n\nAn Unforgettable Night of Basketball Action\n\nExperience the heart-pounding excitement of our local champions hitting the court in an electrifying display of athleticism and skill. Get ready for an unforgettable evening filled with jaw-dropping dunks\, clutch three-pointers\, and game-winning buzzer-beaters that will keep you on the edge of your seat.\n\nDon't miss out on this thrilling showcase of talent and passion for the game. Get your tickets today and be a part of the basketball event of the year!
X-ALT-DESC;FMTTYPE=text/html:<h1><strong>&quot\;Courtside Conquerors!&quot\;</strong></h1>\n\n<p><br />\nAn Unforgettable Night of Basketball Action</p>\n\n<p>Experience the heart-pounding excitement of our local champions hitting the court in an electrifying display of athleticism and skill. Get ready for an unforgettable evening filled with jaw-dropping dunks\, clutch three-pointers\, and game-winning buzzer-beaters that will keep you on the edge of your seat.</p>\n\n<p>Don&#39\;t miss out on this thrilling showcase of talent and passion for the game. Get your tickets today and be a part of the basketball event of the year!</p>\n\n<p>&nbsp\;</p>\n
LOCATION:Reidsville Recreational Center 201 N. Washington Ave Reidsville\, NC 27320
UID:e.111.11341
SEQUENCE:3
DTSTAMP:20260422T103313Z
URL:https://business.reidsvillechamber.org/events/details/court-conquerors-11-15-2025-11341
END:VEVENT

END:VCALENDAR
