BEGIN:VCALENDAR
VERSION:2.0
PRODID:-//ChamberMaster//Event Calendar 2.0//EN
METHOD:PUBLISH
X-PUBLISHED-TTL:P3D
REFRESH-INTERVAL:P3D
CALSCALE:GREGORIAN
BEGIN:VEVENT
DTSTART:20251227T180000Z
DTEND:20251227T200000Z
X-MICROSOFT-CDO-ALLDAYEVENT:FALSE
SUMMARY:COURTSIDE COLLISION!
DESCRIPTION:Courtside Collision!\n\n\n\nAn Unforgettable Night of Basketball Excitement\n\nGet ready for an action-packed evening as the Courtside Collision takes the court to battle it out for glory.\n\nGet your tickets today and secure your spot courtside for the ultimate basketball experience!
X-ALT-DESC;FMTTYPE=text/html:<h1><strong>Courtside Collision!</strong></h1>\n\n<p><br />\nAn Unforgettable Night of Basketball Excitement</p>\n\n<p>Get ready for an action-packed evening as the Courtside Collision takes the court to battle it out for glory.</p>\n\n<p><strong>Get your tickets today and secure your spot courtside for the ultimate basketball experience!</strong></p>\n
LOCATION:Reidsville Recreational Center 201 N. Washington Ave Reidsville\, NC 27320
UID:e.111.11168
SEQUENCE:3
DTSTAMP:20260422T085546Z
URL:https://business.reidsvillechamber.org/events/details/court-conquerors-11168
END:VEVENT

END:VCALENDAR
