BEGIN:VCALENDAR
VERSION:2.0
PRODID:-//ChamberMaster//Event Calendar 2.0//EN
METHOD:PUBLISH
X-PUBLISHED-TTL:P3D
REFRESH-INTERVAL:P3D
CALSCALE:GREGORIAN
BEGIN:VEVENT
DTSTART:20251220T180000Z
DTEND:20251220T200000Z
X-MICROSOFT-CDO-ALLDAYEVENT:FALSE
SUMMARY:COURTSIDE KINGS: WHERE LEGENDS ARE MADE!
DESCRIPTION:Courtside Kings: Where Legends Are Made!\n\nStep into the action. It's game time like never before!\n\nCome witness the most electrifying showcase of talent\, the Courtside Kings! Don't miss out on this thrilling display of skill and passion for the game.\n\nGet your tickets today and be a part of history in the making!
X-ALT-DESC;FMTTYPE=text/html:<h1><strong>Courtside Kings: Where Legends Are Made!</strong></h1>\n\n<h2><span style="font-size:20px"><strong>Step into the action. It&rsquo\;s game time like never before!</strong></span></h2>\n\n<p><span style="font-size:16px">Come witness the most electrifying showcase of talent\, the Courtside Kings! Don&#39\;t miss out on this thrilling display of skill and passion for the game.</span></p>\n\n<p><span style="font-size:16px"><strong>Get your tickets today and be a part of history in the making!</strong></span></p>\n
LOCATION:Reidsville Recreational Center 201 N. Washington Ave Reidsville\, NC 27320
UID:e.111.11161
SEQUENCE:3
DTSTAMP:20260422T085846Z
URL:https://business.reidsvillechamber.org/events/details/courtside-kings-where-legends-are-made-11161
END:VEVENT

END:VCALENDAR
