BEGIN:VCALENDAR
VERSION:2.0
PRODID:-//ChamberMaster//Event Calendar 2.0//EN
METHOD:PUBLISH
X-PUBLISHED-TTL:P3D
REFRESH-INTERVAL:P3D
CALSCALE:GREGORIAN
BEGIN:VEVENT
DTSTART:20100617T191500Z
DTEND:20100617T201500Z
X-MICROSOFT-CDO-ALLDAYEVENT:FALSE
SUMMARY:Crafts for Kids!
DESCRIPTION:CRAFTS for KIDS (and Moms!)  with Robyn McCann\n\nFun arts & crafts hour for kids ages pre-K through 3rd grade! Dress for a mess and come enjoy an hour of crafting fun as you create a different project each month. Please call or email to register! We need to prepare supplies for you!
X-ALT-DESC;FMTTYPE=text/html:CRAFTS for KIDS (and Moms!)  with Robyn McCann\n<br>Fun arts & crafts hour for kids ages pre-K through 3rd grade! Dress for a mess and come enjoy an hour of crafting fun as you create a different project each month. Please call or email to register! We need to prepare supplies for you!
LOCATION:Upstairs studio at Everyday Art Gallery\, 209 SW Market Street\, Downtown Reidsville
UID:e.111.1466
SEQUENCE:3
DTSTAMP:20260424T101119Z
URL:https://business.reidsvillechamber.org/events/details/crafts-for-kids-06-17-2010-1466
END:VEVENT

END:VCALENDAR
