BEGIN:VCALENDAR
VERSION:2.0
PRODID:-//ChamberMaster//Event Calendar 2.0//EN
METHOD:PUBLISH
X-PUBLISHED-TTL:P3D
REFRESH-INTERVAL:P3D
CALSCALE:GREGORIAN
BEGIN:VEVENT
DTSTART;VALUE=DATE:20120213
DTEND;VALUE=DATE:20120214
TRANSP:TRANSPARENT
X-MICROSOFT-CDO-ALLDAYEVENT:TRUE
SUMMARY:Creative Hair Designs Locks for Love
DESCRIPTION:Click Here for flyer
X-ALT-DESC;FMTTYPE=text/html:<a href="http://cloud.chambermaster.com/userfiles/UserFiles/chambers/111/File/CreativeHairDesigns.pdf">Click Here for flyer</a>
LOCATION:Free Hair Cut with a Donation of 10'' of Hair for Locks of Love
UID:e.111.2131
SEQUENCE:3
DTSTAMP:20260421T143903Z
URL:https://business.reidsvillechamber.org/events/details/creative-hair-designs-locks-for-love-02-13-2012-2131
END:VEVENT

END:VCALENDAR
