BEGIN:VCALENDAR
VERSION:2.0
PRODID:-//ChamberMaster//Event Calendar 2.0//EN
METHOD:PUBLISH
X-PUBLISHED-TTL:P3D
REFRESH-INTERVAL:P3D
CALSCALE:GREGORIAN
BEGIN:VEVENT
DTSTART:20110610T220000Z
DTEND:20110611T010000Z
X-MICROSOFT-CDO-ALLDAYEVENT:FALSE
SUMMARY:Cruise In
DESCRIPTION:Cruise In
X-ALT-DESC;FMTTYPE=text/html:Cruise In
LOCATION:Downtown Reidsville
UID:e.111.1931
SEQUENCE:3
DTSTAMP:20260423T151819Z
URL:https://business.reidsvillechamber.org/events/details/cruise-in-06-10-2011-1931
END:VEVENT

END:VCALENDAR
