BEGIN:VCALENDAR
VERSION:2.0
PRODID:-//ChamberMaster//Event Calendar 2.0//EN
METHOD:PUBLISH
X-PUBLISHED-TTL:P3D
REFRESH-INTERVAL:P3D
CALSCALE:GREGORIAN
BEGIN:VEVENT
DTSTART;VALUE=DATE:20110416
DTEND;VALUE=DATE:20110417
TRANSP:TRANSPARENT
X-MICROSOFT-CDO-ALLDAYEVENT:TRUE
SUMMARY:Cruise-in at Chinqua - Penn Plantation
DESCRIPTION:Antique Auto Club of America\, NC Region will hold their spring meet at Chinqua Penn.  Last time these cars gathered at Chinqua Penn there were over 100 vehicles were present.  Artists\, local crafts people and food vendors will be on site for the day.  The wine tasting room will have wine available by the bottle and by the glass.
X-ALT-DESC;FMTTYPE=text/html:Antique Auto Club of America\, NC Region will hold their spring meet at Chinqua Penn.  Last time these cars gathered at Chinqua Penn there were over 100 vehicles were present.  Artists\, local crafts people and food vendors will be on site for the day.  The wine tasting room will have wine available by the bottle and by the glass.
LOCATION:2138 Wentworth Street\, Reidsville NC 27028
UID:e.111.1608
SEQUENCE:3
DTSTAMP:20260423T195206Z
URL:https://business.reidsvillechamber.org/events/details/cruise-in-at-chinqua-penn-plantation-04-16-2011-1608
END:VEVENT

END:VCALENDAR
